BEGIN:VCALENDAR
VERSION:2.0
PRODID:-//Centro Educativo Pachamama - ECPv6.9.0//NONSGML v1.0//EN
CALSCALE:GREGORIAN
METHOD:PUBLISH
X-WR-CALNAME:Centro Educativo Pachamama
X-ORIGINAL-URL:https://centroeducativopachamama.edu.co
X-WR-CALDESC:Eventos para Centro Educativo Pachamama
REFRESH-INTERVAL;VALUE=DURATION:PT1H
X-Robots-Tag:noindex
X-PUBLISHED-TTL:PT1H
BEGIN:VTIMEZONE
TZID:America/Bogota
BEGIN:STANDARD
TZOFFSETFROM:-0500
TZOFFSETTO:-0500
TZNAME:-05
DTSTART:20260101T000000
END:STANDARD
END:VTIMEZONE
BEGIN:VEVENT
DTSTART;VALUE=DATE:20260807
DTEND;VALUE=DATE:20260808
DTSTAMP:20260420T044922
CREATED:20260310T133646Z
LAST-MODIFIED:20260310T133646Z
UID:1758-1786060800-1786147199@centroeducativopachamama.edu.co
SUMMARY:FESTIVO
DESCRIPTION:FESTIVO
URL:https://centroeducativopachamama.edu.co/evento/festivo-6/
LOCATION:Antioquia
END:VEVENT
END:VCALENDAR