BEGIN:VCALENDAR
VERSION:2.0
PRODID:-//Centro Educativo Pachamama - ECPv6.9.0//NONSGML v1.0//EN
CALSCALE:GREGORIAN
METHOD:PUBLISH
X-ORIGINAL-URL:https://centroeducativopachamama.edu.co
X-WR-CALDESC:Eventos para Centro Educativo Pachamama
REFRESH-INTERVAL;VALUE=DURATION:PT1H
X-Robots-Tag:noindex
X-PUBLISHED-TTL:PT1H
BEGIN:VTIMEZONE
TZID:America/Bogota
BEGIN:STANDARD
TZOFFSETFROM:-0500
TZOFFSETTO:-0500
TZNAME:-05
DTSTART:20260101T000000
END:STANDARD
END:VTIMEZONE
BEGIN:VEVENT
DTSTART;VALUE=DATE:20261116
DTEND;VALUE=DATE:20261117
DTSTAMP:20260420T084001
CREATED:20260310T133950Z
LAST-MODIFIED:20260310T133950Z
UID:1765-1794787200-1794873599@centroeducativopachamama.edu.co
SUMMARY:FESTIVO
DESCRIPTION:FESTIVO
URL:https://centroeducativopachamama.edu.co/evento/festivo-10/
LOCATION:Antioquia
END:VEVENT
END:VCALENDAR