BEGIN:VCALENDAR
VERSION:2.0
PRODID:-//Centro Educativo Pachamama - ECPv6.9.0//NONSGML v1.0//EN
CALSCALE:GREGORIAN
METHOD:PUBLISH
X-WR-CALNAME:Centro Educativo Pachamama
X-ORIGINAL-URL:https://centroeducativopachamama.edu.co
X-WR-CALDESC:Eventos para Centro Educativo Pachamama
REFRESH-INTERVAL;VALUE=DURATION:PT1H
X-Robots-Tag:noindex
X-PUBLISHED-TTL:PT1H
BEGIN:VTIMEZONE
TZID:America/Bogota
BEGIN:STANDARD
TZOFFSETFROM:-0500
TZOFFSETTO:-0500
TZNAME:-05
DTSTART:20260101T000000
END:STANDARD
END:VTIMEZONE
BEGIN:VEVENT
DTSTART;VALUE=DATE:20260805
DTEND;VALUE=DATE:20260806
DTSTAMP:20260419T085648
CREATED:20260310T131118Z
LAST-MODIFIED:20260310T131118Z
UID:1702-1785888000-1785974399@centroeducativopachamama.edu.co
SUMMARY:Tercera Escuela Padres Preescolar
DESCRIPTION:Tercera Escuela Padres Preescolar
URL:https://centroeducativopachamama.edu.co/evento/tercera-escuela-padres-preescolar/
LOCATION:Centro Educativo Pachamama\, Sede Campestre - Calle 31 #107A -140 - Belén Aguas Frías\, Medellín\, Antioquia\, Colombia
CATEGORIES:Escuela de Padres
END:VEVENT
BEGIN:VEVENT
DTSTART;VALUE=DATE:20260812
DTEND;VALUE=DATE:20260813
DTSTAMP:20260419T085648
CREATED:20260310T131152Z
LAST-MODIFIED:20260310T131152Z
UID:1704-1786492800-1786579199@centroeducativopachamama.edu.co
SUMMARY:Tercera Escuela Padres Primaria
DESCRIPTION:Tercera Escuela Padres Primaria
URL:https://centroeducativopachamama.edu.co/evento/tercera-escuela-padres-primaria/
LOCATION:Centro Educativo Pachamama\, Sede Campestre - Calle 31 #107A -140 - Belén Aguas Frías\, Medellín\, Antioquia\, Colombia
CATEGORIES:Escuela de Padres
END:VEVENT
BEGIN:VEVENT
DTSTART;VALUE=DATE:20260819
DTEND;VALUE=DATE:20260820
DTSTAMP:20260419T085648
CREATED:20260310T131225Z
LAST-MODIFIED:20260310T131225Z
UID:1706-1787097600-1787183999@centroeducativopachamama.edu.co
SUMMARY:Tercera Escuela Padres Bachillerato
DESCRIPTION:Tercera Escuela Padres Bachillerato
URL:https://centroeducativopachamama.edu.co/evento/tercera-escuela-padres-bachillerato/
LOCATION:Centro Educativo Pachamama\, Sede Campestre - Calle 31 #107A -140 - Belén Aguas Frías\, Medellín\, Antioquia\, Colombia
CATEGORIES:Escuela de Padres
END:VEVENT
END:VCALENDAR