BEGIN:VCALENDAR
VERSION:2.0
PRODID:-//Centro Educativo Pachamama - ECPv6.9.0//NONSGML v1.0//EN
CALSCALE:GREGORIAN
METHOD:PUBLISH
X-WR-CALNAME:Centro Educativo Pachamama
X-ORIGINAL-URL:https://centroeducativopachamama.edu.co
X-WR-CALDESC:Eventos para Centro Educativo Pachamama
REFRESH-INTERVAL;VALUE=DURATION:PT1H
X-Robots-Tag:noindex
X-PUBLISHED-TTL:PT1H
BEGIN:VTIMEZONE
TZID:America/Bogota
BEGIN:STANDARD
TZOFFSETFROM:-0500
TZOFFSETTO:-0500
TZNAME:-05
DTSTART:20230101T000000
END:STANDARD
END:VTIMEZONE
BEGIN:VEVENT
DTSTART;VALUE=DATE:20230712
DTEND;VALUE=DATE:20230809
DTSTAMP:20260425T221009
CREATED:20230712T152920Z
LAST-MODIFIED:20230712T152920Z
UID:1135-1689120000-1691539199@centroeducativopachamama.edu.co
SUMMARY:Vacaciones de los estudiantes de cuarto y quinto.
DESCRIPTION:Vacaciones de los estudiantes de cuarto y quinto.
URL:https://centroeducativopachamama.edu.co/evento/vacaciones-de-los-estudiantes-de-cuarto-y-quinto/
LOCATION:Antioquia
CATEGORIES:Pachamama
END:VEVENT
BEGIN:VEVENT
DTSTART;VALUE=DATE:20230731
DTEND;VALUE=DATE:20230809
DTSTAMP:20260425T221009
CREATED:20230712T153030Z
LAST-MODIFIED:20230712T153030Z
UID:1137-1690761600-1691539199@centroeducativopachamama.edu.co
SUMMARY:Vacaciones Grado Sexto
DESCRIPTION:Vacaciones Grado Sexto
URL:https://centroeducativopachamama.edu.co/evento/vacaciones-grado-sexto/
LOCATION:Antioquia
CATEGORIES:Pachamama
END:VEVENT
BEGIN:VEVENT
DTSTART;VALUE=DATE:20230802
DTEND;VALUE=DATE:20230803
DTSTAMP:20260425T221009
CREATED:20230712T154236Z
LAST-MODIFIED:20230712T154236Z
UID:1145-1690934400-1691020799@centroeducativopachamama.edu.co
SUMMARY:Cumpleaños 13 Pachamama.
DESCRIPTION:. Cumpleaños 13 Pachamama.
URL:https://centroeducativopachamama.edu.co/evento/cumpleanos-13-pachamama/
LOCATION:Antioquia
CATEGORIES:Pachamama
END:VEVENT
BEGIN:VEVENT
DTSTART;VALUE=DATE:20230804
DTEND;VALUE=DATE:20230805
DTSTAMP:20260425T221009
CREATED:20230712T154802Z
LAST-MODIFIED:20230712T154802Z
UID:1147-1691107200-1691193599@centroeducativopachamama.edu.co
SUMMARY:Celebración cumpleaños Pachamama. Bodas de encaje.
DESCRIPTION:Celebración cumpleaños Pachamama. Bodas de encaje.
URL:https://centroeducativopachamama.edu.co/evento/celebracion-cumpleanos-pachamama-bodas-de-encaje/
LOCATION:Antioquia
CATEGORIES:Pachamama
END:VEVENT
BEGIN:VEVENT
DTSTART;VALUE=DATE:20230807
DTEND;VALUE=DATE:20230808
DTSTAMP:20260425T221009
CREATED:20230712T154847Z
LAST-MODIFIED:20230712T154847Z
UID:1149-1691366400-1691452799@centroeducativopachamama.edu.co
SUMMARY:Día de la Batalla de Boyacá.
DESCRIPTION:Día de la Batalla de Boyacá.
URL:https://centroeducativopachamama.edu.co/evento/dia-de-la-batalla-de-boyaca-2/
LOCATION:Antioquia
CATEGORIES:Pachamama
END:VEVENT
BEGIN:VEVENT
DTSTART;VALUE=DATE:20230808
DTEND;VALUE=DATE:20230809
DTSTAMP:20260425T221009
CREATED:20230712T154929Z
LAST-MODIFIED:20230712T154934Z
UID:1151-1691452800-1691539199@centroeducativopachamama.edu.co
SUMMARY:Regreso de vacaciones estudiantes de cuarto\, quinto y sexto.
DESCRIPTION:Regreso de vacaciones estudiantes de cuarto\, quinto y sexto.
URL:https://centroeducativopachamama.edu.co/evento/regreso-de-vacaciones-estudiantes-de-cuarto-quinto-y-sexto/
LOCATION:Antioquia
CATEGORIES:Pachamama
END:VEVENT
BEGIN:VEVENT
DTSTART;VALUE=DATE:20230811
DTEND;VALUE=DATE:20230812
DTSTAMP:20260425T221009
CREATED:20230712T161047Z
LAST-MODIFIED:20230712T161047Z
UID:1155-1691712000-1691798399@centroeducativopachamama.edu.co
SUMMARY:Homenaje a la bandera. Batalla de Boyacá.
DESCRIPTION:Homenaje a la bandera. Batalla de Boyacá.
URL:https://centroeducativopachamama.edu.co/evento/homenaje-a-la-bandera-batalla-de-boyaca-2/
LOCATION:Antioquia
CATEGORIES:Pachamama
END:VEVENT
BEGIN:VEVENT
DTSTART;VALUE=DATE:20230818
DTEND;VALUE=DATE:20230819
DTSTAMP:20260425T221009
CREATED:20230712T161304Z
LAST-MODIFIED:20230712T161304Z
UID:1159-1692316800-1692403199@centroeducativopachamama.edu.co
SUMMARY:Envio formato de reserva de cupo 2024 alumnos antiguos.
DESCRIPTION:
URL:https://centroeducativopachamama.edu.co/evento/envio-formato-de-reserva-de-cupo-2024-alumnos-antiguos/
LOCATION:Antioquia
CATEGORIES:Pachamama
END:VEVENT
BEGIN:VEVENT
DTSTART;VALUE=DATE:20230825
DTEND;VALUE=DATE:20230826
DTSTAMP:20260425T221009
CREATED:20230712T161344Z
LAST-MODIFIED:20230712T161344Z
UID:1161-1692921600-1693007999@centroeducativopachamama.edu.co
SUMMARY:Celebración día de la Antioqueñidad.
DESCRIPTION:Celebración día de la Antioqueñidad.
URL:https://centroeducativopachamama.edu.co/evento/celebracion-dia-de-la-antioquenidad-2/
LOCATION:Antioquia
CATEGORIES:Pachamama
END:VEVENT
BEGIN:VEVENT
DTSTART;VALUE=DATE:20230826
DTEND;VALUE=DATE:20230827
DTSTAMP:20260425T221009
CREATED:20230712T161427Z
LAST-MODIFIED:20230712T161427Z
UID:1163-1693008000-1693094399@centroeducativopachamama.edu.co
SUMMARY:Jornada de puertas abiertas.
DESCRIPTION:Jornada de puertas abiertas.
URL:https://centroeducativopachamama.edu.co/evento/jornada-de-puertas-abiertas-2/
LOCATION:Antioquia
CATEGORIES:Pachamama
END:VEVENT
END:VCALENDAR