BEGIN:VCALENDAR
VERSION:2.0
PRODID:-//Centro Educativo Pachamama - ECPv6.9.0//NONSGML v1.0//EN
CALSCALE:GREGORIAN
METHOD:PUBLISH
X-ORIGINAL-URL:https://centroeducativopachamama.edu.co
X-WR-CALDESC:Eventos para Centro Educativo Pachamama
REFRESH-INTERVAL;VALUE=DURATION:PT1H
X-Robots-Tag:noindex
X-PUBLISHED-TTL:PT1H
BEGIN:VTIMEZONE
TZID:America/Bogota
BEGIN:STANDARD
TZOFFSETFROM:-0500
TZOFFSETTO:-0500
TZNAME:-05
DTSTART:20230101T000000
END:STANDARD
END:VTIMEZONE
BEGIN:VEVENT
DTSTART;VALUE=DATE:20230901
DTEND;VALUE=DATE:20230902
DTSTAMP:20260425T205525
CREATED:20230712T161545Z
LAST-MODIFIED:20230712T161545Z
UID:1167-1693526400-1693612799@centroeducativopachamama.edu.co
SUMMARY:Pentatlón grado 5°.
DESCRIPTION:Pentatlón grado 5°.
URL:https://centroeducativopachamama.edu.co/evento/pentatlon-grado-5/
LOCATION:Antioquia
CATEGORIES:Pachamama
END:VEVENT
BEGIN:VEVENT
DTSTART;VALUE=DATE:20230907
DTEND;VALUE=DATE:20230910
DTSTAMP:20260425T205525
CREATED:20230712T161748Z
LAST-MODIFIED:20230712T161748Z
UID:1171-1694044800-1694303999@centroeducativopachamama.edu.co
SUMMARY:Salida Pedagógica 3 Primaria\, grado sexto°. Río Claro.
DESCRIPTION:Salida Pedagógica 3 Primaria\, grado sexto°. Río Claro.
URL:https://centroeducativopachamama.edu.co/evento/salida-pedagogica-3-primaria-grado-sexto-rio-claro/
LOCATION:Antioquia
CATEGORIES:Pachamama
END:VEVENT
BEGIN:VEVENT
DTSTART;VALUE=DATE:20230908
DTEND;VALUE=DATE:20230909
DTSTAMP:20260425T205525
CREATED:20230712T161626Z
LAST-MODIFIED:20230712T161626Z
UID:1169-1694131200-1694217599@centroeducativopachamama.edu.co
SUMMARY:Salida Pedagógica 3 Primaria\, grados 4°\, 5°
DESCRIPTION:Salida Pedagógica 3 Primaria\, grados 4°\, 5°
URL:https://centroeducativopachamama.edu.co/evento/salida-pedagogica-3-primaria-grados-4-5/
LOCATION:Antioquia
CATEGORIES:Pachamama
END:VEVENT
BEGIN:VEVENT
DTSTART;VALUE=DATE:20230915
DTEND;VALUE=DATE:20230916
DTSTAMP:20260425T205525
CREATED:20230712T161837Z
LAST-MODIFIED:20230712T161837Z
UID:1173-1694736000-1694822399@centroeducativopachamama.edu.co
SUMMARY:Tercera entrega de informes a padres de familia.
DESCRIPTION:Tercera entrega de informes a padres de familia.
URL:https://centroeducativopachamama.edu.co/evento/tercera-entrega-de-informes-a-padres-de-familia/
LOCATION:Antioquia
CATEGORIES:Pachamama
END:VEVENT
BEGIN:VEVENT
DTSTART;VALUE=DATE:20230922
DTEND;VALUE=DATE:20230923
DTSTAMP:20260425T205525
CREATED:20230712T161915Z
LAST-MODIFIED:20230712T161915Z
UID:1175-1695340800-1695427199@centroeducativopachamama.edu.co
SUMMARY:Salida Pedagógica 3 Primaria\, grados 1°\, 2° y 3°.
DESCRIPTION:Salida Pedagógica 3 Primaria\, grados 1°\, 2° y 3°.
URL:https://centroeducativopachamama.edu.co/evento/salida-pedagogica-3-primaria-grados-1-2-y-3/
LOCATION:Antioquia
CATEGORIES:Pachamama
END:VEVENT
BEGIN:VEVENT
DTSTART;VALUE=DATE:20230928
DTEND;VALUE=DATE:20230929
DTSTAMP:20260425T205525
CREATED:20230712T162105Z
LAST-MODIFIED:20230712T162105Z
UID:1179-1695859200-1695945599@centroeducativopachamama.edu.co
SUMMARY:Presentación obra griega grado quinto.
DESCRIPTION:Presentación obra griega grado quinto.
URL:https://centroeducativopachamama.edu.co/evento/presentacion-obra-griega-grado-quinto/
LOCATION:Antioquia
CATEGORIES:Pachamama
END:VEVENT
BEGIN:VEVENT
DTSTART;VALUE=DATE:20230929
DTEND;VALUE=DATE:20230930
DTSTAMP:20260425T205525
CREATED:20230712T162218Z
LAST-MODIFIED:20230712T162218Z
UID:1181-1695945600-1696031999@centroeducativopachamama.edu.co
SUMMARY:Salida Pedagógica 2 Preescolar.
DESCRIPTION:Salida Pedagógica 2 Preescolar.
URL:https://centroeducativopachamama.edu.co/evento/salida-pedagogica-2-preescolar/
LOCATION:Antioquia
CATEGORIES:Pachamama
END:VEVENT
END:VCALENDAR