BEGIN:VCALENDAR
VERSION:2.0
PRODID:-//Centro Educativo Pachamama - ECPv6.9.0//NONSGML v1.0//EN
CALSCALE:GREGORIAN
METHOD:PUBLISH
X-ORIGINAL-URL:https://centroeducativopachamama.edu.co
X-WR-CALDESC:Eventos para Centro Educativo Pachamama
REFRESH-INTERVAL;VALUE=DURATION:PT1H
X-Robots-Tag:noindex
X-PUBLISHED-TTL:PT1H
BEGIN:VTIMEZONE
TZID:America/Bogota
BEGIN:STANDARD
TZOFFSETFROM:-0500
TZOFFSETTO:-0500
TZNAME:-05
DTSTART:20240101T000000
END:STANDARD
END:VTIMEZONE
BEGIN:VEVENT
DTSTART;VALUE=DATE:20240503
DTEND;VALUE=DATE:20240504
DTSTAMP:20260425T083558
CREATED:20240313T221147Z
LAST-MODIFIED:20240313T221147Z
UID:1307-1714694400-1714780799@centroeducativopachamama.edu.co
SUMMARY:Salida Pedagógica 2 Primaria\, grados 1°\, 2° y 3°.
DESCRIPTION:Salida Pedagógica 2 Primaria\, grados 1°\, 2° y 3°.
URL:https://centroeducativopachamama.edu.co/evento/salida-pedagogica-2-primaria-grados-1-2-y-3-2/
LOCATION:Centro Educativo Pachamama\, Sede Campestre - Calle 31 #107A -140 - Belén Aguas Frías\, Medellín\, Antioquia\, Colombia
CATEGORIES:Pachamama
END:VEVENT
BEGIN:VEVENT
DTSTART;VALUE=DATE:20240509
DTEND;VALUE=DATE:20240510
DTSTAMP:20260425T083558
CREATED:20240313T221221Z
LAST-MODIFIED:20240313T221221Z
UID:1309-1715212800-1715299199@centroeducativopachamama.edu.co
SUMMARY:Segunda reunión consejo directivo.
DESCRIPTION:Segunda reunión consejo directivo.
URL:https://centroeducativopachamama.edu.co/evento/segunda-reunion-consejo-directivo-2/
LOCATION:Centro Educativo Pachamama\, Sede Campestre - Calle 31 #107A -140 - Belén Aguas Frías\, Medellín\, Antioquia\, Colombia
CATEGORIES:Pachamama
END:VEVENT
BEGIN:VEVENT
DTSTART;VALUE=DATE:20240510
DTEND;VALUE=DATE:20240511
DTSTAMP:20260425T083558
CREATED:20240313T221248Z
LAST-MODIFIED:20240313T221248Z
UID:1311-1715299200-1715385599@centroeducativopachamama.edu.co
SUMMARY:Celebración Pentecostés Preescolar.
DESCRIPTION:Celebración Pentecostés Preescolar.
URL:https://centroeducativopachamama.edu.co/evento/celebracion-pentecostes-preescolar/
LOCATION:Centro Educativo Pachamama\, Sede Campestre - Calle 31 #107A -140 - Belén Aguas Frías\, Medellín\, Antioquia\, Colombia
CATEGORIES:Pachamama
END:VEVENT
BEGIN:VEVENT
DTSTART;VALUE=DATE:20240510
DTEND;VALUE=DATE:20240511
DTSTAMP:20260425T083558
CREATED:20240313T221322Z
LAST-MODIFIED:20240313T221322Z
UID:1313-1715299200-1715385599@centroeducativopachamama.edu.co
SUMMARY:Salida Pedagógica 2 Primaria y Secundaria\, grados 4°\, 5°\, 6° y 7°.
DESCRIPTION:Salida Pedagógica 2 Primaria y Secundaria\, grados 4°\, 5°\, 6° y 7°.
URL:https://centroeducativopachamama.edu.co/evento/salida-pedagogica-2-primaria-y-secundaria-grados-4-5-6-y-7/
LOCATION:Centro Educativo Pachamama\, Sede Campestre - Calle 31 #107A -140 - Belén Aguas Frías\, Medellín\, Antioquia\, Colombia
CATEGORIES:Pachamama
END:VEVENT
BEGIN:VEVENT
DTSTART;VALUE=DATE:20240512
DTEND;VALUE=DATE:20240513
DTSTAMP:20260425T083558
CREATED:20240313T221401Z
LAST-MODIFIED:20240313T221401Z
UID:1315-1715472000-1715558399@centroeducativopachamama.edu.co
SUMMARY:Día de la madre.
DESCRIPTION:Día de la madre.
URL:https://centroeducativopachamama.edu.co/evento/dia-de-la-madre-3/
LOCATION:Centro Educativo Pachamama\, Sede Campestre - Calle 31 #107A -140 - Belén Aguas Frías\, Medellín\, Antioquia\, Colombia
CATEGORIES:Pachamama
END:VEVENT
BEGIN:VEVENT
DTSTART;VALUE=DATE:20240515
DTEND;VALUE=DATE:20240516
DTSTAMP:20260425T083558
CREATED:20240313T221550Z
LAST-MODIFIED:20240313T221550Z
UID:1317-1715731200-1715817599@centroeducativopachamama.edu.co
SUMMARY:Día del Maestro.
DESCRIPTION:Día del Maestro.
URL:https://centroeducativopachamama.edu.co/evento/dia-del-maestro-2/
LOCATION:Centro Educativo Pachamama\, Sede Campestre - Calle 31 #107A -140 - Belén Aguas Frías\, Medellín\, Antioquia\, Colombia
CATEGORIES:Pachamama
END:VEVENT
BEGIN:VEVENT
DTSTART;VALUE=DATE:20240517
DTEND;VALUE=DATE:20240518
DTSTAMP:20260425T083558
CREATED:20240313T221705Z
LAST-MODIFIED:20240313T221705Z
UID:1321-1715904000-1715990399@centroeducativopachamama.edu.co
SUMMARY:Compensatorio día del Maestro.
DESCRIPTION:Compensatorio día del Maestro.
URL:https://centroeducativopachamama.edu.co/evento/compensatorio-dia-del-maestro/
LOCATION:Centro Educativo Pachamama\, Sede Campestre - Calle 31 #107A -140 - Belén Aguas Frías\, Medellín\, Antioquia\, Colombia
CATEGORIES:Pachamama
END:VEVENT
BEGIN:VEVENT
DTSTART;VALUE=DATE:20240523
DTEND;VALUE=DATE:20240524
DTSTAMP:20260425T083558
CREATED:20240313T221728Z
LAST-MODIFIED:20240313T221728Z
UID:1323-1716422400-1716508799@centroeducativopachamama.edu.co
SUMMARY:Segunda escuela de padres primaria y bachillerato. Matemáticas.
DESCRIPTION:Segunda escuela de padres primaria y bachillerato. Matemáticas.
URL:https://centroeducativopachamama.edu.co/evento/segunda-escuela-de-padres-primaria-y-bachillerato-matematicas/
LOCATION:Centro Educativo Pachamama\, Sede Campestre - Calle 31 #107A -140 - Belén Aguas Frías\, Medellín\, Antioquia\, Colombia
CATEGORIES:Pachamama
END:VEVENT
BEGIN:VEVENT
DTSTART;VALUE=DATE:20240524
DTEND;VALUE=DATE:20240525
DTSTAMP:20260425T083558
CREATED:20240313T221751Z
LAST-MODIFIED:20240313T221751Z
UID:1325-1716508800-1716595199@centroeducativopachamama.edu.co
SUMMARY:Salida Pedagógica 1 Preescolar.
DESCRIPTION:Salida Pedagógica 1 Preescolar.
URL:https://centroeducativopachamama.edu.co/evento/salida-pedagogica-1-preescolar-2/
LOCATION:Centro Educativo Pachamama\, Sede Campestre - Calle 31 #107A -140 - Belén Aguas Frías\, Medellín\, Antioquia\, Colombia
CATEGORIES:Pachamama
END:VEVENT
BEGIN:VEVENT
DTSTART;VALUE=DATE:20240527
DTEND;VALUE=DATE:20240528
DTSTAMP:20260425T083558
CREATED:20240313T221829Z
LAST-MODIFIED:20240313T221829Z
UID:1327-1716768000-1716854399@centroeducativopachamama.edu.co
SUMMARY:Jornada pedagógica. Este día no asisten los estudiantes. Celebración día del Maestro.
DESCRIPTION:Jornada pedagógica. Este día no asisten los estudiantes. Celebración día del Maestro.
URL:https://centroeducativopachamama.edu.co/evento/jornada-pedagogica-este-dia-no-asisten-los-estudiantes-celebracion-dia-del-maestro/
LOCATION:Centro Educativo Pachamama\, Sede Campestre - Calle 31 #107A -140 - Belén Aguas Frías\, Medellín\, Antioquia\, Colombia
CATEGORIES:Jornada Pedagógica,Pachamama
END:VEVENT
END:VCALENDAR