BEGIN:VCALENDAR
VERSION:2.0
PRODID:-//Centro Educativo Pachamama - ECPv6.9.0//NONSGML v1.0//EN
CALSCALE:GREGORIAN
METHOD:PUBLISH
X-ORIGINAL-URL:https://centroeducativopachamama.edu.co
X-WR-CALDESC:Eventos para Centro Educativo Pachamama
REFRESH-INTERVAL;VALUE=DURATION:PT1H
X-Robots-Tag:noindex
X-PUBLISHED-TTL:PT1H
BEGIN:VTIMEZONE
TZID:America/Bogota
BEGIN:STANDARD
TZOFFSETFROM:-0500
TZOFFSETTO:-0500
TZNAME:-05
DTSTART:20250101T000000
END:STANDARD
END:VTIMEZONE
BEGIN:VEVENT
DTSTART;VALUE=DATE:20250414
DTEND;VALUE=DATE:20250419
DTSTAMP:20260424T181626
CREATED:20250220T195405Z
LAST-MODIFIED:20250220T195405Z
UID:1519-1744588800-1745020799@centroeducativopachamama.edu.co
SUMMARY:14 al 18 semana santa
DESCRIPTION:14 al 18 semana santa
URL:https://centroeducativopachamama.edu.co/evento/14-al-18-semana-santa/
LOCATION:Centro Educativo Pachamama\, Sede Campestre - Calle 31 #107A -140 - Belén Aguas Frías\, Medellín\, Antioquia\, Colombia
CATEGORIES:Pachamama
END:VEVENT
BEGIN:VEVENT
DTSTART;VALUE=DATE:20250425
DTEND;VALUE=DATE:20250426
DTSTAMP:20260424T181626
CREATED:20250220T195511Z
LAST-MODIFIED:20250220T195511Z
UID:1521-1745539200-1745625599@centroeducativopachamama.edu.co
SUMMARY:Celebración día del niño
DESCRIPTION:Celebración día del niño
URL:https://centroeducativopachamama.edu.co/evento/celebracion-dia-del-nino-3/
LOCATION:Centro Educativo Pachamama\, Sede Campestre - Calle 31 #107A -140 - Belén Aguas Frías\, Medellín\, Antioquia\, Colombia
CATEGORIES:Pachamama
END:VEVENT
BEGIN:VEVENT
DTSTART;VALUE=DATE:20250426
DTEND;VALUE=DATE:20250427
DTSTAMP:20260424T181626
CREATED:20250220T201039Z
LAST-MODIFIED:20250220T201039Z
UID:1523-1745625600-1745711999@centroeducativopachamama.edu.co
SUMMARY:Día de la secretaria
DESCRIPTION:Día de la secretaria
URL:https://centroeducativopachamama.edu.co/evento/dia-de-la-secretaria-2/
LOCATION:Centro Educativo Pachamama\, Sede Campestre - Calle 31 #107A -140 - Belén Aguas Frías\, Medellín\, Antioquia\, Colombia
CATEGORIES:Pachamama
END:VEVENT
END:VCALENDAR