BEGIN:VCALENDAR
VERSION:2.0
PRODID:-//Centro Educativo Pachamama - ECPv6.9.0//NONSGML v1.0//EN
CALSCALE:GREGORIAN
METHOD:PUBLISH
X-WR-CALNAME:Centro Educativo Pachamama
X-ORIGINAL-URL:https://centroeducativopachamama.edu.co
X-WR-CALDESC:Eventos para Centro Educativo Pachamama
REFRESH-INTERVAL;VALUE=DURATION:PT1H
X-Robots-Tag:noindex
X-PUBLISHED-TTL:PT1H
BEGIN:VTIMEZONE
TZID:America/Bogota
BEGIN:STANDARD
TZOFFSETFROM:-0500
TZOFFSETTO:-0500
TZNAME:-05
DTSTART:20250101T000000
END:STANDARD
END:VTIMEZONE
BEGIN:VEVENT
DTSTART;VALUE=DATE:20251114
DTEND;VALUE=DATE:20251115
DTSTAMP:20260424T092052
CREATED:20250707T160536Z
LAST-MODIFIED:20250707T160536Z
UID:1624-1763078400-1763164799@centroeducativopachamama.edu.co
SUMMARY:Vacaciones Preescolar
DESCRIPTION:Vacaciones Preescolar
URL:https://centroeducativopachamama.edu.co/evento/vacaciones-preescolar/
LOCATION:Centro Educativo Pachamama\, Sede Campestre - Calle 31 #107A -140 - Belén Aguas Frías\, Medellín\, Antioquia\, Colombia
CATEGORIES:Pachamama
END:VEVENT
BEGIN:VEVENT
DTSTART;VALUE=DATE:20251118
DTEND;VALUE=DATE:20251119
DTSTAMP:20260424T092052
CREATED:20250707T160605Z
LAST-MODIFIED:20250707T160605Z
UID:1626-1763424000-1763510399@centroeducativopachamama.edu.co
SUMMARY:Farolito
DESCRIPTION:Farolito
URL:https://centroeducativopachamama.edu.co/evento/farolito-5/
LOCATION:Centro Educativo Pachamama\, Sede Campestre - Calle 31 #107A -140 - Belén Aguas Frías\, Medellín\, Antioquia\, Colombia
CATEGORIES:Pachamama
END:VEVENT
BEGIN:VEVENT
DTSTART;VALUE=DATE:20251119
DTEND;VALUE=DATE:20251120
DTSTAMP:20260424T092052
CREATED:20250707T160639Z
LAST-MODIFIED:20250707T160639Z
UID:1628-1763510400-1763596799@centroeducativopachamama.edu.co
SUMMARY:Pastorela Preescolar
DESCRIPTION:Pastorela Preescolar
URL:https://centroeducativopachamama.edu.co/evento/pastorela-preescolar-3/
LOCATION:Centro Educativo Pachamama\, Sede Campestre - Calle 31 #107A -140 - Belén Aguas Frías\, Medellín\, Antioquia\, Colombia
CATEGORIES:Pachamama
END:VEVENT
BEGIN:VEVENT
DTSTART;VALUE=DATE:20251120
DTEND;VALUE=DATE:20260114
DTSTAMP:20260424T092052
CREATED:20250929T203636Z
LAST-MODIFIED:20250929T205309Z
UID:1646-1763596800-1768348799@centroeducativopachamama.edu.co
SUMMARY:Vacaciones Primaria y Bachillerato
DESCRIPTION:Vacaciones Primaria y \nBachillerato
URL:https://centroeducativopachamama.edu.co/evento/vacaciones-primaria/
LOCATION:Centro Educativo Pachamama\, Sede Campestre - Calle 31 #107A -140 - Belén Aguas Frías\, Medellín\, Antioquia\, Colombia
CATEGORIES:Pachamama
END:VEVENT
BEGIN:VEVENT
DTSTART;VALUE=DATE:20251124
DTEND;VALUE=DATE:20251126
DTSTAMP:20260424T092052
CREATED:20250707T160711Z
LAST-MODIFIED:20250707T160711Z
UID:1630-1763942400-1764115199@centroeducativopachamama.edu.co
SUMMARY:Matriculas Antiguos
DESCRIPTION:Matriculas Antiguos
URL:https://centroeducativopachamama.edu.co/evento/matriculas-antiguos/
LOCATION:Centro Educativo Pachamama\, Sede Campestre - Calle 31 #107A -140 - Belén Aguas Frías\, Medellín\, Antioquia\, Colombia
CATEGORIES:Pachamama
END:VEVENT
BEGIN:VEVENT
DTSTART;VALUE=DATE:20251124
DTEND;VALUE=DATE:20251206
DTSTAMP:20260424T092052
CREATED:20250929T205046Z
LAST-MODIFIED:20250929T205046Z
UID:1651-1763942400-1764979199@centroeducativopachamama.edu.co
SUMMARY:Vacaciones Recreativas
DESCRIPTION:Vacaciones Recreativas
URL:https://centroeducativopachamama.edu.co/evento/vacaciones-recreativas-3/
LOCATION:Centro Educativo Pachamama\, Sede Campestre - Calle 31 #107A -140 - Belén Aguas Frías\, Medellín\, Antioquia\, Colombia
CATEGORIES:Pachamama
END:VEVENT
BEGIN:VEVENT
DTSTART;VALUE=DATE:20251126
DTEND;VALUE=DATE:20251127
DTSTAMP:20260424T092052
CREATED:20250707T160741Z
LAST-MODIFIED:20250707T160741Z
UID:1632-1764115200-1764201599@centroeducativopachamama.edu.co
SUMMARY:Matrículas Nuevos
DESCRIPTION:Matrículas Nuevos
URL:https://centroeducativopachamama.edu.co/evento/matriculas-nuevos/
LOCATION:Centro Educativo Pachamama\, Sede Campestre - Calle 31 #107A -140 - Belén Aguas Frías\, Medellín\, Antioquia\, Colombia
CATEGORIES:Pachamama
END:VEVENT
END:VCALENDAR