BEGIN:VCALENDAR
VERSION:2.0
PRODID:-//Centro Educativo Pachamama - ECPv6.9.0//NONSGML v1.0//EN
CALSCALE:GREGORIAN
METHOD:PUBLISH
X-WR-CALNAME:Centro Educativo Pachamama
X-ORIGINAL-URL:https://centroeducativopachamama.edu.co
X-WR-CALDESC:Eventos para Centro Educativo Pachamama
REFRESH-INTERVAL;VALUE=DURATION:PT1H
X-Robots-Tag:noindex
X-PUBLISHED-TTL:PT1H
BEGIN:VTIMEZONE
TZID:America/Bogota
BEGIN:STANDARD
TZOFFSETFROM:-0500
TZOFFSETTO:-0500
TZNAME:-05
DTSTART:20230101T000000
END:STANDARD
END:VTIMEZONE
BEGIN:VEVENT
DTSTART;VALUE=DATE:20230915
DTEND;VALUE=DATE:20230916
DTSTAMP:20260425T221435
CREATED:20230712T161837Z
LAST-MODIFIED:20230712T161837Z
UID:1173-1694736000-1694822399@centroeducativopachamama.edu.co
SUMMARY:Tercera entrega de informes a padres de familia.
DESCRIPTION:Tercera entrega de informes a padres de familia.
URL:https://centroeducativopachamama.edu.co/evento/tercera-entrega-de-informes-a-padres-de-familia/
LOCATION:Antioquia
CATEGORIES:Pachamama
END:VEVENT
END:VCALENDAR