BEGIN:VCALENDAR
VERSION:2.0
PRODID:-//Centro Educativo Pachamama - ECPv6.9.0//NONSGML v1.0//EN
CALSCALE:GREGORIAN
METHOD:PUBLISH
X-WR-CALNAME:Centro Educativo Pachamama
X-ORIGINAL-URL:https://centroeducativopachamama.edu.co
X-WR-CALDESC:Eventos para Centro Educativo Pachamama
REFRESH-INTERVAL;VALUE=DURATION:PT1H
X-Robots-Tag:noindex
X-PUBLISHED-TTL:PT1H
BEGIN:VTIMEZONE
TZID:America/Bogota
BEGIN:STANDARD
TZOFFSETFROM:-0500
TZOFFSETTO:-0500
TZNAME:-05
DTSTART:20240101T000000
END:STANDARD
END:VTIMEZONE
BEGIN:VEVENT
DTSTART;VALUE=DATE:20240816
DTEND;VALUE=DATE:20240817
DTSTAMP:20260425T055343
CREATED:20240823T134247Z
LAST-MODIFIED:20240823T134247Z
UID:1397-1723766400-1723852799@centroeducativopachamama.edu.co
SUMMARY:Celebración día de la Antioqueñidad
DESCRIPTION:Celebración día de la Antioqueñidad
URL:https://centroeducativopachamama.edu.co/evento/celebracion-dia-de-la-antioquenidad-4/
LOCATION:Centro Educativo Pachamama\, Sede Campestre - Calle 31 #107A -140 - Belén Aguas Frías\, Medellín\, Antioquia\, Colombia
CATEGORIES:Pachamama
END:VEVENT
BEGIN:VEVENT
DTSTART;TZID=America/Bogota:20240816T080000
DTEND;TZID=America/Bogota:20240816T170000
DTSTAMP:20260425T055343
CREATED:20240313T223902Z
LAST-MODIFIED:20240313T223902Z
UID:1367-1723795200-1723827600@centroeducativopachamama.edu.co
SUMMARY:Celebración día de la Antioqueñidad.
DESCRIPTION:Celebración día de la Antioqueñidad.
URL:https://centroeducativopachamama.edu.co/evento/celebracion-dia-de-la-antioquenidad-3/
LOCATION:Centro Educativo Pachamama\, Sede Campestre - Calle 31 #107A -140 - Belén Aguas Frías\, Medellín\, Antioquia\, Colombia
CATEGORIES:Pachamama
END:VEVENT
END:VCALENDAR