BEGIN:VCALENDAR
VERSION:2.0
PRODID:-//Centro Educativo Pachamama - ECPv6.9.0//NONSGML v1.0//EN
CALSCALE:GREGORIAN
METHOD:PUBLISH
X-ORIGINAL-URL:https://centroeducativopachamama.edu.co
X-WR-CALDESC:Eventos para Centro Educativo Pachamama
REFRESH-INTERVAL;VALUE=DURATION:PT1H
X-Robots-Tag:noindex
X-PUBLISHED-TTL:PT1H
BEGIN:VTIMEZONE
TZID:America/Bogota
BEGIN:STANDARD
TZOFFSETFROM:-0500
TZOFFSETTO:-0500
TZNAME:-05
DTSTART:20250101T000000
END:STANDARD
END:VTIMEZONE
BEGIN:VEVENT
DTSTART;VALUE=DATE:20250814
DTEND;VALUE=DATE:20250815
DTSTAMP:20260424T144433
CREATED:20250707T153034Z
LAST-MODIFIED:20250707T153034Z
UID:1580-1755129600-1755215999@centroeducativopachamama.edu.co
SUMMARY:Reunión Consejo Directivo
DESCRIPTION:Reunión Consejo Directivo
URL:https://centroeducativopachamama.edu.co/evento/reunion-consejo-directivo-3/
LOCATION:Centro Educativo Pachamama\, Sede Campestre - Calle 31 #107A -140 - Belén Aguas Frías\, Medellín\, Antioquia\, Colombia
CATEGORIES:Pachamama
END:VEVENT
END:VCALENDAR