BEGIN:VCALENDAR
VERSION:2.0
PRODID:-//Centro Educativo Pachamama - ECPv6.9.0//NONSGML v1.0//EN
CALSCALE:GREGORIAN
METHOD:PUBLISH
X-WR-CALNAME:Centro Educativo Pachamama
X-ORIGINAL-URL:https://centroeducativopachamama.edu.co
X-WR-CALDESC:Eventos para Centro Educativo Pachamama
REFRESH-INTERVAL;VALUE=DURATION:PT1H
X-Robots-Tag:noindex
X-PUBLISHED-TTL:PT1H
BEGIN:VTIMEZONE
TZID:America/Bogota
BEGIN:STANDARD
TZOFFSETFROM:-0500
TZOFFSETTO:-0500
TZNAME:-05
DTSTART:20250101T000000
END:STANDARD
END:VTIMEZONE
BEGIN:VEVENT
DTSTART;VALUE=DATE:20250516
DTEND;VALUE=DATE:20250517
DTSTAMP:20260423T060553
CREATED:20250220T202507Z
LAST-MODIFIED:20250220T202507Z
UID:1537-1747353600-1747439999@centroeducativopachamama.edu.co
SUMMARY:Compensatorio día del maestro
DESCRIPTION:Compensatorio día del maestro
URL:https://centroeducativopachamama.edu.co/evento/compensatorio-dia-del-maestro-2/
LOCATION:Centro Educativo Pachamama\, Sede Campestre - Calle 31 #107A -140 - Belén Aguas Frías\, Medellín\, Antioquia\, Colombia
CATEGORIES:Pachamama
END:VEVENT
BEGIN:VEVENT
DTSTART;VALUE=DATE:20250515
DTEND;VALUE=DATE:20250516
DTSTAMP:20260423T060553
CREATED:20250220T201950Z
LAST-MODIFIED:20250220T201950Z
UID:1535-1747267200-1747353599@centroeducativopachamama.edu.co
SUMMARY:Día del maestro
DESCRIPTION:Día del maestro
URL:https://centroeducativopachamama.edu.co/evento/dia-del-maestro-3/
LOCATION:Centro Educativo Pachamama\, Sede Campestre - Calle 31 #107A -140 - Belén Aguas Frías\, Medellín\, Antioquia\, Colombia
CATEGORIES:Pachamama
END:VEVENT
BEGIN:VEVENT
DTSTART;VALUE=DATE:20250509
DTEND;VALUE=DATE:20250510
DTSTAMP:20260423T060553
CREATED:20250220T201850Z
LAST-MODIFIED:20250220T201850Z
UID:1533-1746748800-1746835199@centroeducativopachamama.edu.co
SUMMARY:Salida pedagógica 3°\, 4° y 5°
DESCRIPTION:Salida pedagógica 3°\, 4° y 5°
URL:https://centroeducativopachamama.edu.co/evento/salida-pedagogica-3-4-y-5/
LOCATION:Centro Educativo Pachamama\, Sede Campestre - Calle 31 #107A -140 - Belén Aguas Frías\, Medellín\, Antioquia\, Colombia
CATEGORIES:Salida Pedagógica
END:VEVENT
BEGIN:VEVENT
DTSTART;VALUE=DATE:20250508
DTEND;VALUE=DATE:20250509
DTSTAMP:20260423T060553
CREATED:20250220T201512Z
LAST-MODIFIED:20250220T201512Z
UID:1531-1746662400-1746748799@centroeducativopachamama.edu.co
SUMMARY:Reunión consejo directivo
DESCRIPTION:Reunión consejo directivo
URL:https://centroeducativopachamama.edu.co/evento/reunion-consejo-directivo-2/
LOCATION:Centro Educativo Pachamama\, Sede Campestre - Calle 31 #107A -140 - Belén Aguas Frías\, Medellín\, Antioquia\, Colombia
CATEGORIES:Pachamama
END:VEVENT
BEGIN:VEVENT
DTSTART;VALUE=DATE:20250507
DTEND;VALUE=DATE:20250508
DTSTAMP:20260423T060553
CREATED:20250220T201431Z
LAST-MODIFIED:20250220T201431Z
UID:1529-1746576000-1746662399@centroeducativopachamama.edu.co
SUMMARY:Salida pedagógica 1° y 2°
DESCRIPTION:Salida pedagógica 1° y 2°
URL:https://centroeducativopachamama.edu.co/evento/salida-pedagogica-1-y-2/
LOCATION:Centro Educativo Pachamama\, Sede Campestre - Calle 31 #107A -140 - Belén Aguas Frías\, Medellín\, Antioquia\, Colombia
CATEGORIES:Salida Pedagógica
END:VEVENT
BEGIN:VEVENT
DTSTART;VALUE=DATE:20250502
DTEND;VALUE=DATE:20250503
DTSTAMP:20260423T060553
CREATED:20250220T201300Z
LAST-MODIFIED:20250220T201300Z
UID:1527-1746144000-1746230399@centroeducativopachamama.edu.co
SUMMARY:Salida pedagógica
DESCRIPTION:Salida pedagógica
URL:https://centroeducativopachamama.edu.co/evento/salida-pedagogica/
LOCATION:Centro Educativo Pachamama\, Sede Campestre - Calle 31 #107A -140 - Belén Aguas Frías\, Medellín\, Antioquia\, Colombia
CATEGORIES:Salida Pedagógica
END:VEVENT
BEGIN:VEVENT
DTSTART;VALUE=DATE:20250428
DTEND;VALUE=DATE:20250429
DTSTAMP:20260423T060553
CREATED:20250220T201203Z
LAST-MODIFIED:20250220T201203Z
UID:1525-1745798400-1745884799@centroeducativopachamama.edu.co
SUMMARY:Jornada pedagógica
DESCRIPTION:Jornada pedagógica
URL:https://centroeducativopachamama.edu.co/evento/jornada-pedagogica-6/
LOCATION:Centro Educativo Pachamama\, Sede Campestre - Calle 31 #107A -140 - Belén Aguas Frías\, Medellín\, Antioquia\, Colombia
CATEGORIES:Jornada Pedagógica
END:VEVENT
BEGIN:VEVENT
DTSTART;VALUE=DATE:20250426
DTEND;VALUE=DATE:20250427
DTSTAMP:20260423T060553
CREATED:20250220T201039Z
LAST-MODIFIED:20250220T201039Z
UID:1523-1745625600-1745711999@centroeducativopachamama.edu.co
SUMMARY:Día de la secretaria
DESCRIPTION:Día de la secretaria
URL:https://centroeducativopachamama.edu.co/evento/dia-de-la-secretaria-2/
LOCATION:Centro Educativo Pachamama\, Sede Campestre - Calle 31 #107A -140 - Belén Aguas Frías\, Medellín\, Antioquia\, Colombia
CATEGORIES:Pachamama
END:VEVENT
BEGIN:VEVENT
DTSTART;VALUE=DATE:20250425
DTEND;VALUE=DATE:20250426
DTSTAMP:20260423T060553
CREATED:20250220T195511Z
LAST-MODIFIED:20250220T195511Z
UID:1521-1745539200-1745625599@centroeducativopachamama.edu.co
SUMMARY:Celebración día del niño
DESCRIPTION:Celebración día del niño
URL:https://centroeducativopachamama.edu.co/evento/celebracion-dia-del-nino-3/
LOCATION:Centro Educativo Pachamama\, Sede Campestre - Calle 31 #107A -140 - Belén Aguas Frías\, Medellín\, Antioquia\, Colombia
CATEGORIES:Pachamama
END:VEVENT
BEGIN:VEVENT
DTSTART;VALUE=DATE:20250414
DTEND;VALUE=DATE:20250419
DTSTAMP:20260423T060553
CREATED:20250220T195405Z
LAST-MODIFIED:20250220T195405Z
UID:1519-1744588800-1745020799@centroeducativopachamama.edu.co
SUMMARY:14 al 18 semana santa
DESCRIPTION:14 al 18 semana santa
URL:https://centroeducativopachamama.edu.co/evento/14-al-18-semana-santa/
LOCATION:Centro Educativo Pachamama\, Sede Campestre - Calle 31 #107A -140 - Belén Aguas Frías\, Medellín\, Antioquia\, Colombia
CATEGORIES:Pachamama
END:VEVENT
BEGIN:VEVENT
DTSTART;VALUE=DATE:20250331
DTEND;VALUE=DATE:20250401
DTSTAMP:20260423T060553
CREATED:20250117T164135Z
LAST-MODIFIED:20250117T164135Z
UID:1509-1743379200-1743465599@centroeducativopachamama.edu.co
SUMMARY:Jornada pedagógica
DESCRIPTION:Jornada pedagógica
URL:https://centroeducativopachamama.edu.co/evento/jornada-pedagogica-5/
LOCATION:Centro Educativo Pachamama\, Sede Campestre - Calle 31 #107A -140 - Belén Aguas Frías\, Medellín\, Antioquia\, Colombia
CATEGORIES:Jornada Pedagógica
END:VEVENT
BEGIN:VEVENT
DTSTART;VALUE=DATE:20250326
DTEND;VALUE=DATE:20250327
DTSTAMP:20260423T060553
CREATED:20250117T164115Z
LAST-MODIFIED:20250117T164115Z
UID:1507-1742947200-1743033599@centroeducativopachamama.edu.co
SUMMARY:Segunda escuela de padres secundaria
DESCRIPTION:Segunda escuela de padres secundaria
URL:https://centroeducativopachamama.edu.co/evento/segunda-escuela-de-padres-secundaria/
LOCATION:Centro Educativo Pachamama\, Sede Campestre - Calle 31 #107A -140 - Belén Aguas Frías\, Medellín\, Antioquia\, Colombia
CATEGORIES:Escuela de Padres
END:VEVENT
BEGIN:VEVENT
DTSTART;TZID=America/Bogota:20250321T080000
DTEND;TZID=America/Bogota:20250321T170000
DTSTAMP:20260423T060553
CREATED:20250117T164037Z
LAST-MODIFIED:20250117T164037Z
UID:1505-1742544000-1742576400@centroeducativopachamama.edu.co
SUMMARY:Entrega de informes padres de familia
DESCRIPTION:Entrega de informes padres de familia
URL:https://centroeducativopachamama.edu.co/evento/entrega-de-informes-padres-de-familia-2/
LOCATION:Centro Educativo Pachamama\, Sede Campestre - Calle 31 #107A -140 - Belén Aguas Frías\, Medellín\, Antioquia\, Colombia
CATEGORIES:Pachamama
END:VEVENT
BEGIN:VEVENT
DTSTART;VALUE=DATE:20250320
DTEND;VALUE=DATE:20250321
DTSTAMP:20260423T060553
CREATED:20250117T164014Z
LAST-MODIFIED:20250117T164014Z
UID:1503-1742428800-1742515199@centroeducativopachamama.edu.co
SUMMARY:Elección del personero
DESCRIPTION:Elección del personero
URL:https://centroeducativopachamama.edu.co/evento/eleccion-del-personero/
LOCATION:Centro Educativo Pachamama\, Sede Campestre - Calle 31 #107A -140 - Belén Aguas Frías\, Medellín\, Antioquia\, Colombia
CATEGORIES:Pachamama
END:VEVENT
BEGIN:VEVENT
DTSTART;VALUE=DATE:20250319
DTEND;VALUE=DATE:20250320
DTSTAMP:20260423T060553
CREATED:20250117T163950Z
LAST-MODIFIED:20250117T163950Z
UID:1501-1742342400-1742428799@centroeducativopachamama.edu.co
SUMMARY:Día del hombre
DESCRIPTION:Día del hombre
URL:https://centroeducativopachamama.edu.co/evento/dia-del-hombre-2/
LOCATION:Centro Educativo Pachamama\, Sede Campestre - Calle 31 #107A -140 - Belén Aguas Frías\, Medellín\, Antioquia\, Colombia
CATEGORIES:Pachamama
END:VEVENT
BEGIN:VEVENT
DTSTART;VALUE=DATE:20250319
DTEND;VALUE=DATE:20250320
DTSTAMP:20260423T060553
CREATED:20250117T163917Z
LAST-MODIFIED:20250117T171006Z
UID:1499-1742342400-1742428799@centroeducativopachamama.edu.co
SUMMARY:Segunda Escuela de padres Primaria
DESCRIPTION:Segunda Escuela de padres
URL:https://centroeducativopachamama.edu.co/evento/segunda-escuela-de-padres-primaria-3/
LOCATION:Centro Educativo Pachamama\, Sede Campestre - Calle 31 #107A -140 - Belén Aguas Frías\, Medellín\, Antioquia\, Colombia
CATEGORIES:Escuela de Padres
END:VEVENT
BEGIN:VEVENT
DTSTART;VALUE=DATE:20250314
DTEND;VALUE=DATE:20250315
DTSTAMP:20260423T060553
CREATED:20250117T163843Z
LAST-MODIFIED:20250117T163843Z
UID:1497-1741910400-1741996799@centroeducativopachamama.edu.co
SUMMARY:Salida pedagógica 6\, 7 y 8 grado
DESCRIPTION:Salida pedagógica 6\, 7 y 8 grado
URL:https://centroeducativopachamama.edu.co/evento/salida-pedagogica-6-7-y-8-grado/
LOCATION:Centro Educativo Pachamama\, Sede Campestre - Calle 31 #107A -140 - Belén Aguas Frías\, Medellín\, Antioquia\, Colombia
CATEGORIES:Salida Pedagógica
END:VEVENT
BEGIN:VEVENT
DTSTART;VALUE=DATE:20250313
DTEND;VALUE=DATE:20250314
DTSTAMP:20260423T060553
CREATED:20250117T163626Z
LAST-MODIFIED:20250117T163626Z
UID:1489-1741824000-1741910399@centroeducativopachamama.edu.co
SUMMARY:primera salida pedagógica 3\,4 y 5 grado
DESCRIPTION:primera salida pedagógica 3\,4 y 5 grado
URL:https://centroeducativopachamama.edu.co/evento/primera-salida-pedagogica-34-y-5-grado/
LOCATION:Centro Educativo Pachamama\, Sede Campestre - Calle 31 #107A -140 - Belén Aguas Frías\, Medellín\, Antioquia\, Colombia
CATEGORIES:Salida Pedagógica
END:VEVENT
BEGIN:VEVENT
DTSTART;VALUE=DATE:20250310
DTEND;VALUE=DATE:20250311
DTSTAMP:20260423T060553
CREATED:20250117T163802Z
LAST-MODIFIED:20250117T163802Z
UID:1495-1741564800-1741651199@centroeducativopachamama.edu.co
SUMMARY:Celebración día de la mujer
DESCRIPTION:Celebración día de la mujer
URL:https://centroeducativopachamama.edu.co/evento/celebracion-dia-de-la-mujer/
LOCATION:Centro Educativo Pachamama\, Sede Campestre - Calle 31 #107A -140 - Belén Aguas Frías\, Medellín\, Antioquia\, Colombia
CATEGORIES:Pachamama
END:VEVENT
BEGIN:VEVENT
DTSTART;VALUE=DATE:20250308
DTEND;VALUE=DATE:20250309
DTSTAMP:20260423T060553
CREATED:20250117T163730Z
LAST-MODIFIED:20250117T163730Z
UID:1493-1741392000-1741478399@centroeducativopachamama.edu.co
SUMMARY:Seminario segundo septenio
DESCRIPTION:Seminario segundo septenio
URL:https://centroeducativopachamama.edu.co/evento/seminario-segundo-septenio/
LOCATION:Centro Educativo Pachamama\, Sede Campestre - Calle 31 #107A -140 - Belén Aguas Frías\, Medellín\, Antioquia\, Colombia
CATEGORIES:Pachamama
END:VEVENT
BEGIN:VEVENT
DTSTART;VALUE=DATE:20250308
DTEND;VALUE=DATE:20250309
DTSTAMP:20260423T060553
CREATED:20250117T163702Z
LAST-MODIFIED:20250117T163702Z
UID:1491-1741392000-1741478399@centroeducativopachamama.edu.co
SUMMARY:Día de la mujer
DESCRIPTION:Día de la mujer
URL:https://centroeducativopachamama.edu.co/evento/dia-de-la-mujer-2/
LOCATION:Centro Educativo Pachamama\, Sede Campestre - Calle 31 #107A -140 - Belén Aguas Frías\, Medellín\, Antioquia\, Colombia
CATEGORIES:Pachamama
END:VEVENT
BEGIN:VEVENT
DTSTART;VALUE=DATE:20250305
DTEND;VALUE=DATE:20250306
DTSTAMP:20260423T060553
CREATED:20250117T163537Z
LAST-MODIFIED:20250117T163549Z
UID:1486-1741132800-1741219199@centroeducativopachamama.edu.co
SUMMARY:primer salida pedagógica 1 y 2 grado
DESCRIPTION:primer salida pedagógica 1 y 2 grado
URL:https://centroeducativopachamama.edu.co/evento/primer-salida-pedagogica-1-y-2/
LOCATION:Centro Educativo Pachamama\, Sede Campestre - Calle 31 #107A -140 - Belén Aguas Frías\, Medellín\, Antioquia\, Colombia
CATEGORIES:Salida Pedagógica
END:VEVENT
BEGIN:VEVENT
DTSTART;VALUE=DATE:20250227
DTEND;VALUE=DATE:20250228
DTSTAMP:20260423T060553
CREATED:20250117T163458Z
LAST-MODIFIED:20250117T163458Z
UID:1484-1740614400-1740700799@centroeducativopachamama.edu.co
SUMMARY:Natalicio de Rudolf Steiner
DESCRIPTION:Natalicio de Rudolf Steiner
URL:https://centroeducativopachamama.edu.co/evento/natalicio-de-rudolf-steiner/
LOCATION:Centro Educativo Pachamama\, Sede Campestre - Calle 31 #107A -140 - Belén Aguas Frías\, Medellín\, Antioquia\, Colombia
CATEGORIES:Pachamama
END:VEVENT
BEGIN:VEVENT
DTSTART;VALUE=DATE:20250225
DTEND;VALUE=DATE:20250226
DTSTAMP:20260423T060553
CREATED:20250117T163436Z
LAST-MODIFIED:20250117T163436Z
UID:1482-1740441600-1740527999@centroeducativopachamama.edu.co
SUMMARY:Reunión consejo de padres
DESCRIPTION:Reunión consejo de padres
URL:https://centroeducativopachamama.edu.co/evento/reunion-consejo-de-padres/
LOCATION:Centro Educativo Pachamama\, Sede Campestre - Calle 31 #107A -140 - Belén Aguas Frías\, Medellín\, Antioquia\, Colombia
CATEGORIES:Consejo de Padres
END:VEVENT
BEGIN:VEVENT
DTSTART;VALUE=DATE:20250224
DTEND;VALUE=DATE:20250225
DTSTAMP:20260423T060553
CREATED:20250117T163348Z
LAST-MODIFIED:20250117T163348Z
UID:1480-1740355200-1740441599@centroeducativopachamama.edu.co
SUMMARY:Jornada Pedagógica
DESCRIPTION:Jornada Pedagógica
URL:https://centroeducativopachamama.edu.co/evento/jornada-pedagogica-4/
LOCATION:Centro Educativo Pachamama\, Sede Campestre - Calle 31 #107A -140 - Belén Aguas Frías\, Medellín\, Antioquia\, Colombia
CATEGORIES:Jornada Pedagógica
END:VEVENT
BEGIN:VEVENT
DTSTART;VALUE=DATE:20250215
DTEND;VALUE=DATE:20250216
DTSTAMP:20260423T060553
CREATED:20250117T163239Z
LAST-MODIFIED:20250117T163239Z
UID:1478-1739577600-1739663999@centroeducativopachamama.edu.co
SUMMARY:Seminario primer septenio
DESCRIPTION:Seminario primer septenio
URL:https://centroeducativopachamama.edu.co/evento/seminario-primer-septenio-3/
LOCATION:Centro Educativo Pachamama\, Sede Campestre - Calle 31 #107A -140 - Belén Aguas Frías\, Medellín\, Antioquia\, Colombia
CATEGORIES:Pachamama
END:VEVENT
BEGIN:VEVENT
DTSTART;VALUE=DATE:20250213
DTEND;VALUE=DATE:20250214
DTSTAMP:20260423T060553
CREATED:20250117T163212Z
LAST-MODIFIED:20250117T163212Z
UID:1476-1739404800-1739491199@centroeducativopachamama.edu.co
SUMMARY:Reunión consejo directivo
DESCRIPTION:Reunión consejo directivo
URL:https://centroeducativopachamama.edu.co/evento/reunion-consejo-directivo/
LOCATION:Centro Educativo Pachamama\, Sede Campestre - Calle 31 #107A -140 - Belén Aguas Frías\, Medellín\, Antioquia\, Colombia
CATEGORIES:Pachamama
END:VEVENT
BEGIN:VEVENT
DTSTART;VALUE=DATE:20250208
DTEND;VALUE=DATE:20250209
DTSTAMP:20260423T060553
CREATED:20250117T163147Z
LAST-MODIFIED:20250117T163147Z
UID:1474-1738972800-1739059199@centroeducativopachamama.edu.co
SUMMARY:Seminario primer septenio
DESCRIPTION:Seminario primer septenio
URL:https://centroeducativopachamama.edu.co/evento/seminario-primer-septenio-2/
LOCATION:Centro Educativo Pachamama\, Sede Campestre - Calle 31 #107A -140 - Belén Aguas Frías\, Medellín\, Antioquia\, Colombia
CATEGORIES:Pachamama
END:VEVENT
BEGIN:VEVENT
DTSTART;VALUE=DATE:20250206
DTEND;VALUE=DATE:20250207
DTSTAMP:20260423T060553
CREATED:20250117T163115Z
LAST-MODIFIED:20250117T163115Z
UID:1472-1738800000-1738886399@centroeducativopachamama.edu.co
SUMMARY:Primera escuela de padres 3°\,4°\,5°\,6°\,7° Y 8°
DESCRIPTION:Primera escuela de padres\n3°\,4°\,5°\,6°\,7° Y 8°
URL:https://centroeducativopachamama.edu.co/evento/primera-escuela-de-padres-34567-y-8/
LOCATION:Centro Educativo Pachamama\, Sede Campestre - Calle 31 #107A -140 - Belén Aguas Frías\, Medellín\, Antioquia\, Colombia
CATEGORIES:Escuela de Padres
END:VEVENT
BEGIN:VEVENT
DTSTART;VALUE=DATE:20250205
DTEND;VALUE=DATE:20250206
DTSTAMP:20260423T060553
CREATED:20250117T163039Z
LAST-MODIFIED:20250204T211419Z
UID:1470-1738713600-1738799999@centroeducativopachamama.edu.co
SUMMARY:Primera escuela de padres Maternal\, 1° y 2°
DESCRIPTION:Primera escuela de padres 1° y 2°
URL:https://centroeducativopachamama.edu.co/evento/primera-escuela-de-padres-1-y-2/
LOCATION:Centro Educativo Pachamama\, Sede Campestre - Calle 31 #107A -140 - Belén Aguas Frías\, Medellín\, Antioquia\, Colombia
CATEGORIES:Escuela de Padres
END:VEVENT
END:VCALENDAR