BEGIN:VCALENDAR
VERSION:2.0
PRODID:-//Centro Educativo Pachamama - ECPv6.9.0//NONSGML v1.0//EN
CALSCALE:GREGORIAN
METHOD:PUBLISH
X-WR-CALNAME:Centro Educativo Pachamama
X-ORIGINAL-URL:https://centroeducativopachamama.edu.co
X-WR-CALDESC:Eventos para Centro Educativo Pachamama
REFRESH-INTERVAL;VALUE=DURATION:PT1H
X-Robots-Tag:noindex
X-PUBLISHED-TTL:PT1H
BEGIN:VTIMEZONE
TZID:America/Bogota
BEGIN:STANDARD
TZOFFSETFROM:-0500
TZOFFSETTO:-0500
TZNAME:-05
DTSTART:20240101T000000
END:STANDARD
END:VTIMEZONE
BEGIN:VEVENT
DTSTART;VALUE=DATE:20250308
DTEND;VALUE=DATE:20250309
DTSTAMP:20260423T123116
CREATED:20250117T163702Z
LAST-MODIFIED:20250117T163702Z
UID:1491-1741392000-1741478399@centroeducativopachamama.edu.co
SUMMARY:Día de la mujer
DESCRIPTION:Día de la mujer
URL:https://centroeducativopachamama.edu.co/evento/dia-de-la-mujer-2/
LOCATION:Centro Educativo Pachamama\, Sede Campestre - Calle 31 #107A -140 - Belén Aguas Frías\, Medellín\, Antioquia\, Colombia
CATEGORIES:Pachamama
END:VEVENT
BEGIN:VEVENT
DTSTART;VALUE=DATE:20250305
DTEND;VALUE=DATE:20250306
DTSTAMP:20260423T123116
CREATED:20250117T163537Z
LAST-MODIFIED:20250117T163549Z
UID:1486-1741132800-1741219199@centroeducativopachamama.edu.co
SUMMARY:primer salida pedagógica 1 y 2 grado
DESCRIPTION:primer salida pedagógica 1 y 2 grado
URL:https://centroeducativopachamama.edu.co/evento/primer-salida-pedagogica-1-y-2/
LOCATION:Centro Educativo Pachamama\, Sede Campestre - Calle 31 #107A -140 - Belén Aguas Frías\, Medellín\, Antioquia\, Colombia
CATEGORIES:Salida Pedagógica
END:VEVENT
BEGIN:VEVENT
DTSTART;VALUE=DATE:20250227
DTEND;VALUE=DATE:20250228
DTSTAMP:20260423T123116
CREATED:20250117T163458Z
LAST-MODIFIED:20250117T163458Z
UID:1484-1740614400-1740700799@centroeducativopachamama.edu.co
SUMMARY:Natalicio de Rudolf Steiner
DESCRIPTION:Natalicio de Rudolf Steiner
URL:https://centroeducativopachamama.edu.co/evento/natalicio-de-rudolf-steiner/
LOCATION:Centro Educativo Pachamama\, Sede Campestre - Calle 31 #107A -140 - Belén Aguas Frías\, Medellín\, Antioquia\, Colombia
CATEGORIES:Pachamama
END:VEVENT
BEGIN:VEVENT
DTSTART;VALUE=DATE:20250225
DTEND;VALUE=DATE:20250226
DTSTAMP:20260423T123116
CREATED:20250117T163436Z
LAST-MODIFIED:20250117T163436Z
UID:1482-1740441600-1740527999@centroeducativopachamama.edu.co
SUMMARY:Reunión consejo de padres
DESCRIPTION:Reunión consejo de padres
URL:https://centroeducativopachamama.edu.co/evento/reunion-consejo-de-padres/
LOCATION:Centro Educativo Pachamama\, Sede Campestre - Calle 31 #107A -140 - Belén Aguas Frías\, Medellín\, Antioquia\, Colombia
CATEGORIES:Consejo de Padres
END:VEVENT
BEGIN:VEVENT
DTSTART;VALUE=DATE:20250224
DTEND;VALUE=DATE:20250225
DTSTAMP:20260423T123116
CREATED:20250117T163348Z
LAST-MODIFIED:20250117T163348Z
UID:1480-1740355200-1740441599@centroeducativopachamama.edu.co
SUMMARY:Jornada Pedagógica
DESCRIPTION:Jornada Pedagógica
URL:https://centroeducativopachamama.edu.co/evento/jornada-pedagogica-4/
LOCATION:Centro Educativo Pachamama\, Sede Campestre - Calle 31 #107A -140 - Belén Aguas Frías\, Medellín\, Antioquia\, Colombia
CATEGORIES:Jornada Pedagógica
END:VEVENT
BEGIN:VEVENT
DTSTART;VALUE=DATE:20250215
DTEND;VALUE=DATE:20250216
DTSTAMP:20260423T123116
CREATED:20250117T163239Z
LAST-MODIFIED:20250117T163239Z
UID:1478-1739577600-1739663999@centroeducativopachamama.edu.co
SUMMARY:Seminario primer septenio
DESCRIPTION:Seminario primer septenio
URL:https://centroeducativopachamama.edu.co/evento/seminario-primer-septenio-3/
LOCATION:Centro Educativo Pachamama\, Sede Campestre - Calle 31 #107A -140 - Belén Aguas Frías\, Medellín\, Antioquia\, Colombia
CATEGORIES:Pachamama
END:VEVENT
BEGIN:VEVENT
DTSTART;VALUE=DATE:20250213
DTEND;VALUE=DATE:20250214
DTSTAMP:20260423T123116
CREATED:20250117T163212Z
LAST-MODIFIED:20250117T163212Z
UID:1476-1739404800-1739491199@centroeducativopachamama.edu.co
SUMMARY:Reunión consejo directivo
DESCRIPTION:Reunión consejo directivo
URL:https://centroeducativopachamama.edu.co/evento/reunion-consejo-directivo/
LOCATION:Centro Educativo Pachamama\, Sede Campestre - Calle 31 #107A -140 - Belén Aguas Frías\, Medellín\, Antioquia\, Colombia
CATEGORIES:Pachamama
END:VEVENT
BEGIN:VEVENT
DTSTART;VALUE=DATE:20250208
DTEND;VALUE=DATE:20250209
DTSTAMP:20260423T123116
CREATED:20250117T163147Z
LAST-MODIFIED:20250117T163147Z
UID:1474-1738972800-1739059199@centroeducativopachamama.edu.co
SUMMARY:Seminario primer septenio
DESCRIPTION:Seminario primer septenio
URL:https://centroeducativopachamama.edu.co/evento/seminario-primer-septenio-2/
LOCATION:Centro Educativo Pachamama\, Sede Campestre - Calle 31 #107A -140 - Belén Aguas Frías\, Medellín\, Antioquia\, Colombia
CATEGORIES:Pachamama
END:VEVENT
BEGIN:VEVENT
DTSTART;VALUE=DATE:20250206
DTEND;VALUE=DATE:20250207
DTSTAMP:20260423T123116
CREATED:20250117T163115Z
LAST-MODIFIED:20250117T163115Z
UID:1472-1738800000-1738886399@centroeducativopachamama.edu.co
SUMMARY:Primera escuela de padres 3°\,4°\,5°\,6°\,7° Y 8°
DESCRIPTION:Primera escuela de padres\n3°\,4°\,5°\,6°\,7° Y 8°
URL:https://centroeducativopachamama.edu.co/evento/primera-escuela-de-padres-34567-y-8/
LOCATION:Centro Educativo Pachamama\, Sede Campestre - Calle 31 #107A -140 - Belén Aguas Frías\, Medellín\, Antioquia\, Colombia
CATEGORIES:Escuela de Padres
END:VEVENT
BEGIN:VEVENT
DTSTART;VALUE=DATE:20250205
DTEND;VALUE=DATE:20250206
DTSTAMP:20260423T123116
CREATED:20250117T163039Z
LAST-MODIFIED:20250204T211419Z
UID:1470-1738713600-1738799999@centroeducativopachamama.edu.co
SUMMARY:Primera escuela de padres Maternal\, 1° y 2°
DESCRIPTION:Primera escuela de padres 1° y 2°
URL:https://centroeducativopachamama.edu.co/evento/primera-escuela-de-padres-1-y-2/
LOCATION:Centro Educativo Pachamama\, Sede Campestre - Calle 31 #107A -140 - Belén Aguas Frías\, Medellín\, Antioquia\, Colombia
CATEGORIES:Escuela de Padres
END:VEVENT
BEGIN:VEVENT
DTSTART;VALUE=DATE:20241126
DTEND;VALUE=DATE:20241127
DTSTAMP:20260423T123116
CREATED:20241001T200612Z
LAST-MODIFIED:20241001T200612Z
UID:1449-1732579200-1732665599@centroeducativopachamama.edu.co
SUMMARY:Matrículas 2025\, estudiantes nuevos.
DESCRIPTION:Matrículas 2025\, estudiantes nuevos.
URL:https://centroeducativopachamama.edu.co/evento/matriculas-2025-estudiantes-nuevos/
LOCATION:Centro Educativo Pachamama\, Sede Campestre - Calle 31 #107A -140 - Belén Aguas Frías\, Medellín\, Antioquia\, Colombia
CATEGORIES:Pachamama
END:VEVENT
BEGIN:VEVENT
DTSTART;VALUE=DATE:20241125
DTEND;VALUE=DATE:20241207
DTSTAMP:20260423T123116
CREATED:20241001T200650Z
LAST-MODIFIED:20241001T200650Z
UID:1451-1732492800-1733529599@centroeducativopachamama.edu.co
SUMMARY:Vacaciones recreativas fin de año.
DESCRIPTION:Vacaciones recreativas fin de año.
URL:https://centroeducativopachamama.edu.co/evento/vacaciones-recreativas-fin-de-ano-3/
LOCATION:Centro Educativo Pachamama\, Sede Campestre - Calle 31 #107A -140 - Belén Aguas Frías\, Medellín\, Antioquia\, Colombia
CATEGORIES:Pachamama
END:VEVENT
BEGIN:VEVENT
DTSTART;VALUE=DATE:20241125
DTEND;VALUE=DATE:20241126
DTSTAMP:20260423T123116
CREATED:20241001T200542Z
LAST-MODIFIED:20241001T200542Z
UID:1447-1732492800-1732579199@centroeducativopachamama.edu.co
SUMMARY:Matrículas 2025\, antiguos estudiantes.
DESCRIPTION:Matrículas 2025\, antiguos estudiantes.
URL:https://centroeducativopachamama.edu.co/evento/matriculas-2025-antiguos-estudiantes-2/
LOCATION:Centro Educativo Pachamama\, Sede Campestre - Calle 31 #107A -140 - Belén Aguas Frías\, Medellín\, Antioquia\, Colombia
CATEGORIES:Pachamama
END:VEVENT
BEGIN:VEVENT
DTSTART;VALUE=DATE:20241125
DTEND;VALUE=DATE:20241126
DTSTAMP:20260423T123116
CREATED:20241001T200452Z
LAST-MODIFIED:20241001T200452Z
UID:1443-1732492800-1732579199@centroeducativopachamama.edu.co
SUMMARY:Cuarta entrega de informes a padres de familia en general.
DESCRIPTION:Cuarta entrega de informes a padres de familia en general.
URL:https://centroeducativopachamama.edu.co/evento/cuarta-entrega-de-informes-a-padres-de-familia-en-general-2/
LOCATION:Centro Educativo Pachamama\, Sede Campestre - Calle 31 #107A -140 - Belén Aguas Frías\, Medellín\, Antioquia\, Colombia
END:VEVENT
BEGIN:VEVENT
DTSTART;VALUE=DATE:20241122
DTEND;VALUE=DATE:20241123
DTSTAMP:20260423T123116
CREATED:20241001T200522Z
LAST-MODIFIED:20241001T200526Z
UID:1445-1732233600-1732319999@centroeducativopachamama.edu.co
SUMMARY:Matrículas 2025\, antiguos estudiantes.
DESCRIPTION:Matrículas 2025\, antiguos estudiantes.
URL:https://centroeducativopachamama.edu.co/evento/matriculas-2025-antiguos-estudiantes/
LOCATION:Centro Educativo Pachamama\, Sede Campestre - Calle 31 #107A -140 - Belén Aguas Frías\, Medellín\, Antioquia\, Colombia
CATEGORIES:Pachamama
END:VEVENT
BEGIN:VEVENT
DTSTART;VALUE=DATE:20241122
DTEND;VALUE=DATE:20241123
DTSTAMP:20260423T123116
CREATED:20241001T200436Z
LAST-MODIFIED:20241001T200436Z
UID:1441-1732233600-1732319999@centroeducativopachamama.edu.co
SUMMARY:Cuarta entrega de informes a padres de familia en general.
DESCRIPTION:Cuarta entrega de informes a padres de familia en general.
URL:https://centroeducativopachamama.edu.co/evento/cuarta-entrega-de-informes-a-padres-de-familia-en-general/
LOCATION:Centro Educativo Pachamama\, Sede Campestre - Calle 31 #107A -140 - Belén Aguas Frías\, Medellín\, Antioquia\, Colombia
CATEGORIES:Pachamama
END:VEVENT
BEGIN:VEVENT
DTSTART;VALUE=DATE:20241121
DTEND;VALUE=DATE:20241122
DTSTAMP:20260423T123116
CREATED:20241030T180134Z
LAST-MODIFIED:20241030T180134Z
UID:1457-1732147200-1732233599@centroeducativopachamama.edu.co
SUMMARY:Vacaciones de Primaria Bachillerato
DESCRIPTION:Vacaciones de Primaria Bachillerato
URL:https://centroeducativopachamama.edu.co/evento/vacaciones-de-primaria-bachillerato/
LOCATION:Centro Educativo Pachamama\, Sede Campestre - Calle 31 #107A -140 - Belén Aguas Frías\, Medellín\, Antioquia\, Colombia
CATEGORIES:Pachamama
END:VEVENT
BEGIN:VEVENT
DTSTART;VALUE=DATE:20241120
DTEND;VALUE=DATE:20241122
DTSTAMP:20260423T123116
CREATED:20241001T200409Z
LAST-MODIFIED:20241030T180048Z
UID:1439-1732060800-1732233599@centroeducativopachamama.edu.co
SUMMARY:Farolito
DESCRIPTION:Farolito
URL:https://centroeducativopachamama.edu.co/evento/farolito-4/
LOCATION:Centro Educativo Pachamama\, Sede Campestre - Calle 31 #107A -140 - Belén Aguas Frías\, Medellín\, Antioquia\, Colombia
CATEGORIES:Pachamama
END:VEVENT
BEGIN:VEVENT
DTSTART;VALUE=DATE:20241118
DTEND;VALUE=DATE:20241119
DTSTAMP:20260423T123116
CREATED:20241001T200341Z
LAST-MODIFIED:20241030T180025Z
UID:1437-1731888000-1731974399@centroeducativopachamama.edu.co
SUMMARY:Pastorela preescolar.
DESCRIPTION:Pastorela preescolar.
URL:https://centroeducativopachamama.edu.co/evento/pastorela-preescolar-2/
LOCATION:Centro Educativo Pachamama\, Sede Campestre - Calle 31 #107A -140 - Belén Aguas Frías\, Medellín\, Antioquia\, Colombia
CATEGORIES:Pachamama
END:VEVENT
BEGIN:VEVENT
DTSTART;VALUE=DATE:20241115
DTEND;VALUE=DATE:20241116
DTSTAMP:20260423T123116
CREATED:20241030T180006Z
LAST-MODIFIED:20241030T180006Z
UID:1455-1731628800-1731715199@centroeducativopachamama.edu.co
SUMMARY:Salen a vacaciones estudiantes  jardín y maternal
DESCRIPTION:Salen a vacaciones estudiantes jardín y maternal
URL:https://centroeducativopachamama.edu.co/evento/salen-a-vacaciones-estudiantes-jardin-y-maternal/
LOCATION:Centro Educativo Pachamama\, Sede Campestre - Calle 31 #107A -140 - Belén Aguas Frías\, Medellín\, Antioquia\, Colombia
CATEGORIES:Pachamama
END:VEVENT
BEGIN:VEVENT
DTSTART;VALUE=DATE:20241114
DTEND;VALUE=DATE:20241115
DTSTAMP:20260423T123116
CREATED:20241001T200316Z
LAST-MODIFIED:20241030T175836Z
UID:1435-1731542400-1731628799@centroeducativopachamama.edu.co
SUMMARY:Pastorela grado cuarto.
DESCRIPTION:Pastorela grado cuarto.
URL:https://centroeducativopachamama.edu.co/evento/pastorela-grado-cuarto-2/
LOCATION:Centro Educativo Pachamama\, Sede Campestre - Calle 31 #107A -140 - Belén Aguas Frías\, Medellín\, Antioquia\, Colombia
CATEGORIES:Pachamama
END:VEVENT
BEGIN:VEVENT
DTSTART;VALUE=DATE:20241108
DTEND;VALUE=DATE:20241109
DTSTAMP:20260423T123116
CREATED:20241001T200246Z
LAST-MODIFIED:20241030T175732Z
UID:1433-1731024000-1731110399@centroeducativopachamama.edu.co
SUMMARY:Salida Pedagógica 4 Primaria y bachillerato. Grado 4°\, 5°\,6°\, 7°.
DESCRIPTION:Salida Pedagógica 4 Primaria y bachillerato. Grado 4°\, 5°\,6°\, 7°.
URL:https://centroeducativopachamama.edu.co/evento/salida-pedagogica-4-primaria-y-bachillerato-grado-4-56-7/
LOCATION:Centro Educativo Pachamama\, Sede Campestre - Calle 31 #107A -140 - Belén Aguas Frías\, Medellín\, Antioquia\, Colombia
CATEGORIES:Pachamama
END:VEVENT
BEGIN:VEVENT
DTSTART;VALUE=DATE:20241101
DTEND;VALUE=DATE:20241102
DTSTAMP:20260423T123116
CREATED:20240823T135913Z
LAST-MODIFIED:20240823T135913Z
UID:1427-1730419200-1730505599@centroeducativopachamama.edu.co
SUMMARY:Salida Pedagógica 4 Primaria\, grados 1°\, 2°\, 3°.
DESCRIPTION:Salida Pedagógica 4 Primaria\, grados 1°\, 2°\, 3°.
URL:https://centroeducativopachamama.edu.co/evento/salida-pedagogica-4-primaria-grados-1-2-3/
LOCATION:Centro Educativo Pachamama\, Sede Campestre - Calle 31 #107A -140 - Belén Aguas Frías\, Medellín\, Antioquia\, Colombia
CATEGORIES:Pachamama
END:VEVENT
BEGIN:VEVENT
DTSTART;VALUE=DATE:20241028
DTEND;VALUE=DATE:20241029
DTSTAMP:20260423T123116
CREATED:20240823T135253Z
LAST-MODIFIED:20240823T135253Z
UID:1425-1730073600-1730159999@centroeducativopachamama.edu.co
SUMMARY:Jornada pedagógica. Este día no asisten los estudiantes.
DESCRIPTION:Jornada pedagógica. Este día no asisten los estudiantes.
URL:https://centroeducativopachamama.edu.co/evento/jornada-pedagogica-este-dia-no-asisten-los-estudiantes-12/
LOCATION:Centro Educativo Pachamama\, Sede Campestre - Calle 31 #107A -140 - Belén Aguas Frías\, Medellín\, Antioquia\, Colombia
CATEGORIES:Jornada Pedagógica
END:VEVENT
BEGIN:VEVENT
DTSTART;VALUE=DATE:20241025
DTEND;VALUE=DATE:20241026
DTSTAMP:20260423T123116
CREATED:20240823T135225Z
LAST-MODIFIED:20240823T135225Z
UID:1423-1729814400-1729900799@centroeducativopachamama.edu.co
SUMMARY:Fiesta de los oficios.
DESCRIPTION:Fiesta de los oficios.
URL:https://centroeducativopachamama.edu.co/evento/fiesta-de-los-oficios-2/
LOCATION:Centro Educativo Pachamama\, Sede Campestre - Calle 31 #107A -140 - Belén Aguas Frías\, Medellín\, Antioquia\, Colombia
CATEGORIES:Pachamama
END:VEVENT
BEGIN:VEVENT
DTSTART;VALUE=DATE:20241023
DTEND;VALUE=DATE:20241024
DTSTAMP:20260423T123116
CREATED:20240823T135128Z
LAST-MODIFIED:20241001T195648Z
UID:1419-1729641600-1729727999@centroeducativopachamama.edu.co
SUMMARY:Cuarta escuela de padres primaria y bachillerato.
DESCRIPTION:Cuarta escuela de padres primaria y bachillerato.
URL:https://centroeducativopachamama.edu.co/evento/cuarta-escuela-de-padres-primaria-y-bachillerato-2/
LOCATION:Centro Educativo Pachamama\, Sede Campestre - Calle 31 #107A -140 - Belén Aguas Frías\, Medellín\, Antioquia\, Colombia
CATEGORIES:Escuela de Padres
END:VEVENT
BEGIN:VEVENT
DTSTART;VALUE=DATE:20241017
DTEND;VALUE=DATE:20241018
DTSTAMP:20260423T123116
CREATED:20240823T135157Z
LAST-MODIFIED:20240823T135157Z
UID:1421-1729123200-1729209599@centroeducativopachamama.edu.co
SUMMARY:Cuarta escuela de padres preescolar y maternal.
DESCRIPTION:Cuarta escuela de padres preescolar y maternal.
URL:https://centroeducativopachamama.edu.co/evento/cuarta-escuela-de-padres-preescolar-y-maternal/
LOCATION:Centro Educativo Pachamama\, Sede Campestre - Calle 31 #107A -140 - Belén Aguas Frías\, Medellín\, Antioquia\, Colombia
CATEGORIES:Escuela de Padres
END:VEVENT
BEGIN:VEVENT
DTSTART;VALUE=DATE:20241016
DTEND;VALUE=DATE:20241017
DTSTAMP:20260423T123116
CREATED:20240823T134920Z
LAST-MODIFIED:20241001T195422Z
UID:1413-1729036800-1729123199@centroeducativopachamama.edu.co
SUMMARY:Presentación obra griega grado 5to
DESCRIPTION:Presentación obra griega grado
URL:https://centroeducativopachamama.edu.co/evento/presentacion-obra-griega-grado/
LOCATION:Centro Educativo Pachamama\, Sede Campestre - Calle 31 #107A -140 - Belén Aguas Frías\, Medellín\, Antioquia\, Colombia
CATEGORIES:Pachamama
END:VEVENT
BEGIN:VEVENT
DTSTART;VALUE=DATE:20241012
DTEND;VALUE=DATE:20241013
DTSTAMP:20260423T123116
CREATED:20240823T135033Z
LAST-MODIFIED:20240823T135033Z
UID:1417-1728691200-1728777599@centroeducativopachamama.edu.co
SUMMARY:Día de la raza.
DESCRIPTION:Día de la raza.
URL:https://centroeducativopachamama.edu.co/evento/dia-de-la-raza-2/
LOCATION:Centro Educativo Pachamama\, Sede Campestre - Calle 31 #107A -140 - Belén Aguas Frías\, Medellín\, Antioquia\, Colombia
CATEGORIES:Pachamama
END:VEVENT
BEGIN:VEVENT
DTSTART;VALUE=DATE:20241007
DTEND;VALUE=DATE:20241012
DTSTAMP:20260423T123116
CREATED:20240823T134955Z
LAST-MODIFIED:20240823T134955Z
UID:1415-1728259200-1728691199@centroeducativopachamama.edu.co
SUMMARY:Receso estudiantil. Salen a vacaciones todos los estudiantes.
DESCRIPTION:Receso estudiantil. Salen a vacaciones todos los estudiantes.
URL:https://centroeducativopachamama.edu.co/evento/receso-estudiantil-salen-a-vacaciones-todos-los-estudiantes-2/
LOCATION:Centro Educativo Pachamama\, Sede Campestre - Calle 31 #107A -140 - Belén Aguas Frías\, Medellín\, Antioquia\, Colombia
CATEGORIES:Pachamama
END:VEVENT
END:VCALENDAR