BEGIN:VCALENDAR
VERSION:2.0
PRODID:-//Centro Educativo Pachamama - ECPv6.9.0//NONSGML v1.0//EN
CALSCALE:GREGORIAN
METHOD:PUBLISH
X-WR-CALNAME:Centro Educativo Pachamama
X-ORIGINAL-URL:https://centroeducativopachamama.edu.co
X-WR-CALDESC:Eventos para Centro Educativo Pachamama
REFRESH-INTERVAL;VALUE=DURATION:PT1H
X-Robots-Tag:noindex
X-PUBLISHED-TTL:PT1H
BEGIN:VTIMEZONE
TZID:America/Bogota
BEGIN:STANDARD
TZOFFSETFROM:-0500
TZOFFSETTO:-0500
TZNAME:-05
DTSTART:20240101T000000
END:STANDARD
END:VTIMEZONE
BEGIN:VEVENT
DTSTART;VALUE=DATE:20241023
DTEND;VALUE=DATE:20241024
DTSTAMP:20260423T191100
CREATED:20240823T135128Z
LAST-MODIFIED:20241001T195648Z
UID:1419-1729641600-1729727999@centroeducativopachamama.edu.co
SUMMARY:Cuarta escuela de padres primaria y bachillerato.
DESCRIPTION:Cuarta escuela de padres primaria y bachillerato.
URL:https://centroeducativopachamama.edu.co/evento/cuarta-escuela-de-padres-primaria-y-bachillerato-2/
LOCATION:Centro Educativo Pachamama\, Sede Campestre - Calle 31 #107A -140 - Belén Aguas Frías\, Medellín\, Antioquia\, Colombia
CATEGORIES:Escuela de Padres
END:VEVENT
BEGIN:VEVENT
DTSTART;VALUE=DATE:20241017
DTEND;VALUE=DATE:20241018
DTSTAMP:20260423T191100
CREATED:20240823T135157Z
LAST-MODIFIED:20240823T135157Z
UID:1421-1729123200-1729209599@centroeducativopachamama.edu.co
SUMMARY:Cuarta escuela de padres preescolar y maternal.
DESCRIPTION:Cuarta escuela de padres preescolar y maternal.
URL:https://centroeducativopachamama.edu.co/evento/cuarta-escuela-de-padres-preescolar-y-maternal/
LOCATION:Centro Educativo Pachamama\, Sede Campestre - Calle 31 #107A -140 - Belén Aguas Frías\, Medellín\, Antioquia\, Colombia
CATEGORIES:Escuela de Padres
END:VEVENT
BEGIN:VEVENT
DTSTART;VALUE=DATE:20241016
DTEND;VALUE=DATE:20241017
DTSTAMP:20260423T191100
CREATED:20240823T134920Z
LAST-MODIFIED:20241001T195422Z
UID:1413-1729036800-1729123199@centroeducativopachamama.edu.co
SUMMARY:Presentación obra griega grado 5to
DESCRIPTION:Presentación obra griega grado
URL:https://centroeducativopachamama.edu.co/evento/presentacion-obra-griega-grado/
LOCATION:Centro Educativo Pachamama\, Sede Campestre - Calle 31 #107A -140 - Belén Aguas Frías\, Medellín\, Antioquia\, Colombia
CATEGORIES:Pachamama
END:VEVENT
BEGIN:VEVENT
DTSTART;VALUE=DATE:20241012
DTEND;VALUE=DATE:20241013
DTSTAMP:20260423T191100
CREATED:20240823T135033Z
LAST-MODIFIED:20240823T135033Z
UID:1417-1728691200-1728777599@centroeducativopachamama.edu.co
SUMMARY:Día de la raza.
DESCRIPTION:Día de la raza.
URL:https://centroeducativopachamama.edu.co/evento/dia-de-la-raza-2/
LOCATION:Centro Educativo Pachamama\, Sede Campestre - Calle 31 #107A -140 - Belén Aguas Frías\, Medellín\, Antioquia\, Colombia
CATEGORIES:Pachamama
END:VEVENT
BEGIN:VEVENT
DTSTART;VALUE=DATE:20241007
DTEND;VALUE=DATE:20241012
DTSTAMP:20260423T191100
CREATED:20240823T134955Z
LAST-MODIFIED:20240823T134955Z
UID:1415-1728259200-1728691199@centroeducativopachamama.edu.co
SUMMARY:Receso estudiantil. Salen a vacaciones todos los estudiantes.
DESCRIPTION:Receso estudiantil. Salen a vacaciones todos los estudiantes.
URL:https://centroeducativopachamama.edu.co/evento/receso-estudiantil-salen-a-vacaciones-todos-los-estudiantes-2/
LOCATION:Centro Educativo Pachamama\, Sede Campestre - Calle 31 #107A -140 - Belén Aguas Frías\, Medellín\, Antioquia\, Colombia
CATEGORIES:Pachamama
END:VEVENT
BEGIN:VEVENT
DTSTART;VALUE=DATE:20240930
DTEND;VALUE=DATE:20241001
DTSTAMP:20260423T191100
CREATED:20240823T134758Z
LAST-MODIFIED:20240912T175509Z
UID:1409-1727654400-1727740799@centroeducativopachamama.edu.co
SUMMARY:Jornada pedagógica. Este día no asisten los estudiantes.
DESCRIPTION:Jornada pedagógica. Este día no asisten los estudiantes.
URL:https://centroeducativopachamama.edu.co/evento/jornada-pedagogica-este-dia-no-asisten-los-estudiantes-11/
LOCATION:Centro Educativo Pachamama\, Sede Campestre - Calle 31 #107A -140 - Belén Aguas Frías\, Medellín\, Antioquia\, Colombia
CATEGORIES:Jornada Pedagógica
END:VEVENT
BEGIN:VEVENT
DTSTART;VALUE=DATE:20240927
DTEND;VALUE=DATE:20240928
DTSTAMP:20260423T191100
CREATED:20240823T134829Z
LAST-MODIFIED:20240823T134829Z
UID:1411-1727395200-1727481599@centroeducativopachamama.edu.co
SUMMARY:Salida Pedagógica 2 Preescolar.
DESCRIPTION:Salida Pedagógica 2 Preescolar.
URL:https://centroeducativopachamama.edu.co/evento/salida-pedagogica-2-preescolar-2/
LOCATION:Centro Educativo Pachamama\, Sede Campestre - Calle 31 #107A -140 - Belén Aguas Frías\, Medellín\, Antioquia\, Colombia
END:VEVENT
BEGIN:VEVENT
DTSTART;VALUE=DATE:20240913
DTEND;VALUE=DATE:20240914
DTSTAMP:20260423T191100
CREATED:20240823T134719Z
LAST-MODIFIED:20240823T134719Z
UID:1407-1726185600-1726271999@centroeducativopachamama.edu.co
SUMMARY:Tercera entrega de informes a padres de familia.
DESCRIPTION:Tercera entrega de informes a padres de familia.
URL:https://centroeducativopachamama.edu.co/evento/tercera-entrega-de-informes-a-padres-de-familia-2/
LOCATION:Centro Educativo Pachamama\, Sede Campestre - Calle 31 #107A -140 - Belén Aguas Frías\, Medellín\, Antioquia\, Colombia
CATEGORIES:Pachamama
END:VEVENT
BEGIN:VEVENT
DTSTART;VALUE=DATE:20240906
DTEND;VALUE=DATE:20240907
DTSTAMP:20260423T191100
CREATED:20240823T134618Z
LAST-MODIFIED:20240823T134618Z
UID:1405-1725580800-1725667199@centroeducativopachamama.edu.co
SUMMARY:Pentatlón grado 5°.
DESCRIPTION:Pentatlón grado 5°.
URL:https://centroeducativopachamama.edu.co/evento/pentatlon-grado-5-2/
LOCATION:Centro Educativo Pachamama\, Sede Campestre - Calle 31 #107A -140 - Belén Aguas Frías\, Medellín\, Antioquia\, Colombia
CATEGORIES:Pachamama
END:VEVENT
BEGIN:VEVENT
DTSTART;VALUE=DATE:20240830
DTEND;VALUE=DATE:20240831
DTSTAMP:20260423T191100
CREATED:20240823T134532Z
LAST-MODIFIED:20240823T134532Z
UID:1403-1724976000-1725062399@centroeducativopachamama.edu.co
SUMMARY:Salida Pedagógica 3 Primaria\, grados 1°\, 2° y 3°.
DESCRIPTION:Salida Pedagógica 3 Primaria\, grados 1°\, 2° y 3°.
URL:https://centroeducativopachamama.edu.co/evento/salida-pedagogica-3-primaria-grados-1-2-y-3-3/
LOCATION:Centro Educativo Pachamama\, Sede Campestre - Calle 31 #107A -140 - Belén Aguas Frías\, Medellín\, Antioquia\, Colombia
CATEGORIES:Pachamama
END:VEVENT
BEGIN:VEVENT
DTSTART;VALUE=DATE:20240830
DTEND;VALUE=DATE:20240831
DTSTAMP:20260423T191100
CREATED:20240313T224304Z
LAST-MODIFIED:20240313T224304Z
UID:1377-1724976000-1725062399@centroeducativopachamama.edu.co
SUMMARY:Salida Pedagógica 3 Primaria\, grados 1°\, 2° y 3°.
DESCRIPTION:Salida Pedagógica 3 Primaria\, grados 1°\, 2° y 3°.
URL:https://centroeducativopachamama.edu.co/evento/salida-pedagogica-3-primaria-grados-1-2-y-3-2/
LOCATION:Centro Educativo Pachamama\, Sede Campestre - Calle 31 #107A -140 - Belén Aguas Frías\, Medellín\, Antioquia\, Colombia
CATEGORIES:Pachamama
END:VEVENT
BEGIN:VEVENT
DTSTART;VALUE=DATE:20240830
DTEND;VALUE=DATE:20240831
DTSTAMP:20260423T191100
CREATED:20240313T224241Z
LAST-MODIFIED:20240313T224241Z
UID:1375-1724976000-1725062399@centroeducativopachamama.edu.co
SUMMARY:Tercera reunión consejo directivo.
DESCRIPTION:Tercera reunión consejo directivo.
URL:https://centroeducativopachamama.edu.co/evento/tercera-reunion-consejo-directivo-2/
LOCATION:Centro Educativo Pachamama\, Sede Campestre - Calle 31 #107A -140 - Belén Aguas Frías\, Medellín\, Antioquia\, Colombia
CATEGORIES:Pachamama
END:VEVENT
BEGIN:VEVENT
DTSTART;TZID=America/Bogota:20240826T080000
DTEND;TZID=America/Bogota:20240826T170000
DTSTAMP:20260423T191100
CREATED:20240823T134412Z
LAST-MODIFIED:20240823T134412Z
UID:1401-1724659200-1724691600@centroeducativopachamama.edu.co
SUMMARY:Jornada pedagógica. Este día no asisten los estudiantes.
DESCRIPTION:Jornada pedagógica. Este día no asisten los estudiantes.
URL:https://centroeducativopachamama.edu.co/evento/jornada-pedagogica-este-dia-no-asisten-los-estudiantes-10/
LOCATION:Centro Educativo Pachamama\, Sede Campestre - Calle 31 #107A -140 - Belén Aguas Frías\, Medellín\, Antioquia\, Colombia
CATEGORIES:Jornada Pedagógica
END:VEVENT
BEGIN:VEVENT
DTSTART;VALUE=DATE:20240826
DTEND;VALUE=DATE:20240827
DTSTAMP:20260423T191100
CREATED:20240313T224207Z
LAST-MODIFIED:20240313T224207Z
UID:1373-1724630400-1724716799@centroeducativopachamama.edu.co
SUMMARY:Jornada pedagógica. Este día no asisten los estudiantes.
DESCRIPTION:Jornada pedagógica. Este día no asisten los estudiantes.
URL:https://centroeducativopachamama.edu.co/evento/jornada-pedagogica-este-dia-no-asisten-los-estudiantes-9/
LOCATION:Centro Educativo Pachamama\, Sede Campestre - Calle 31 #107A -140 - Belén Aguas Frías\, Medellín\, Antioquia\, Colombia
CATEGORIES:Pachamama
END:VEVENT
BEGIN:VEVENT
DTSTART;VALUE=DATE:20240824
DTEND;VALUE=DATE:20240825
DTSTAMP:20260423T191100
CREATED:20240823T134337Z
LAST-MODIFIED:20240823T134337Z
UID:1399-1724457600-1724543999@centroeducativopachamama.edu.co
SUMMARY:Jornada de puertas abiertas
DESCRIPTION:Jornada de puertas abiertas.
URL:https://centroeducativopachamama.edu.co/evento/jornada-de-puertas-abiertas-4/
LOCATION:Centro Educativo Pachamama\, Sede Campestre - Calle 31 #107A -140 - Belén Aguas Frías\, Medellín\, Antioquia\, Colombia
END:VEVENT
BEGIN:VEVENT
DTSTART;VALUE=DATE:20240824
DTEND;VALUE=DATE:20240825
DTSTAMP:20260423T191100
CREATED:20240313T224125Z
LAST-MODIFIED:20240313T224125Z
UID:1371-1724457600-1724543999@centroeducativopachamama.edu.co
SUMMARY:Jornada de puertas abiertas.
DESCRIPTION:Jornada de puertas abiertas.
URL:https://centroeducativopachamama.edu.co/evento/jornada-de-puertas-abiertas-3/
LOCATION:Centro Educativo Pachamama\, Sede Campestre - Calle 31 #107A -140 - Belén Aguas Frías\, Medellín\, Antioquia\, Colombia
CATEGORIES:Pachamama
END:VEVENT
BEGIN:VEVENT
DTSTART;VALUE=DATE:20240823
DTEND;VALUE=DATE:20240824
DTSTAMP:20260423T191100
CREATED:20240313T224049Z
LAST-MODIFIED:20240313T224049Z
UID:1369-1724371200-1724457599@centroeducativopachamama.edu.co
SUMMARY:Envio formato de reserva de cupo 2025 alumnos antiguos.
DESCRIPTION:Envio formato de reserva de cupo 2025 alumnos antiguos.
URL:https://centroeducativopachamama.edu.co/evento/envio-formato-de-reserva-de-cupo-2025-alumnos-antiguos/
LOCATION:Centro Educativo Pachamama\, Sede Campestre - Calle 31 #107A -140 - Belén Aguas Frías\, Medellín\, Antioquia\, Colombia
CATEGORIES:Pachamama
END:VEVENT
BEGIN:VEVENT
DTSTART;TZID=America/Bogota:20240816T080000
DTEND;TZID=America/Bogota:20240816T170000
DTSTAMP:20260423T191100
CREATED:20240313T223902Z
LAST-MODIFIED:20240313T223902Z
UID:1367-1723795200-1723827600@centroeducativopachamama.edu.co
SUMMARY:Celebración día de la Antioqueñidad.
DESCRIPTION:Celebración día de la Antioqueñidad.
URL:https://centroeducativopachamama.edu.co/evento/celebracion-dia-de-la-antioquenidad-3/
LOCATION:Centro Educativo Pachamama\, Sede Campestre - Calle 31 #107A -140 - Belén Aguas Frías\, Medellín\, Antioquia\, Colombia
CATEGORIES:Pachamama
END:VEVENT
BEGIN:VEVENT
DTSTART;VALUE=DATE:20240816
DTEND;VALUE=DATE:20240817
DTSTAMP:20260423T191100
CREATED:20240823T134247Z
LAST-MODIFIED:20240823T134247Z
UID:1397-1723766400-1723852799@centroeducativopachamama.edu.co
SUMMARY:Celebración día de la Antioqueñidad
DESCRIPTION:Celebración día de la Antioqueñidad
URL:https://centroeducativopachamama.edu.co/evento/celebracion-dia-de-la-antioquenidad-4/
LOCATION:Centro Educativo Pachamama\, Sede Campestre - Calle 31 #107A -140 - Belén Aguas Frías\, Medellín\, Antioquia\, Colombia
CATEGORIES:Pachamama
END:VEVENT
BEGIN:VEVENT
DTSTART;VALUE=DATE:20240815
DTEND;VALUE=DATE:20240816
DTSTAMP:20260423T191100
CREATED:20240313T223808Z
LAST-MODIFIED:20240313T223808Z
UID:1365-1723680000-1723766399@centroeducativopachamama.edu.co
SUMMARY:Tercera escuela de padres primaria y bachillerato.
DESCRIPTION:Tercera escuela de padres primaria y bachillerato.
URL:https://centroeducativopachamama.edu.co/evento/tercera-escuela-de-padres-primaria-y-bachillerato-2/
LOCATION:Centro Educativo Pachamama\, Sede Campestre - Calle 31 #107A -140 - Belén Aguas Frías\, Medellín\, Antioquia\, Colombia
CATEGORIES:Escuela de Padres,Pachamama
END:VEVENT
BEGIN:VEVENT
DTSTART;VALUE=DATE:20240814
DTEND;VALUE=DATE:20240815
DTSTAMP:20260423T191100
CREATED:20240313T223737Z
LAST-MODIFIED:20240313T223737Z
UID:1363-1723593600-1723679999@centroeducativopachamama.edu.co
SUMMARY:Tercera escuela de padres preescolar y maternal.
DESCRIPTION:Tercera escuela de padres preescolar y maternal.
URL:https://centroeducativopachamama.edu.co/evento/tercera-escuela-de-padres-preescolar-y-maternal/
LOCATION:Centro Educativo Pachamama\, Sede Campestre - Calle 31 #107A -140 - Belén Aguas Frías\, Medellín\, Antioquia\, Colombia
CATEGORIES:Escuela de Padres,Pachamama
END:VEVENT
BEGIN:VEVENT
DTSTART;VALUE=DATE:20240812
DTEND;VALUE=DATE:20240813
DTSTAMP:20260423T191100
CREATED:20240313T223651Z
LAST-MODIFIED:20240313T223651Z
UID:1361-1723420800-1723507199@centroeducativopachamama.edu.co
SUMMARY:Regreso de vacaciones estudiantes de quinto grado.
DESCRIPTION:Regreso de vacaciones estudiantes de quinto grado.
URL:https://centroeducativopachamama.edu.co/evento/regreso-de-vacaciones-estudiantes-de-quinto-grado/
LOCATION:Centro Educativo Pachamama\, Sede Campestre - Calle 31 #107A -140 - Belén Aguas Frías\, Medellín\, Antioquia\, Colombia
CATEGORIES:Pachamama
END:VEVENT
BEGIN:VEVENT
DTSTART;VALUE=DATE:20240807
DTEND;VALUE=DATE:20240808
DTSTAMP:20260423T191100
CREATED:20240313T223559Z
LAST-MODIFIED:20240313T223559Z
UID:1359-1722988800-1723075199@centroeducativopachamama.edu.co
SUMMARY:Día de la Batalla de Boyacá.
DESCRIPTION:Día de la Batalla de Boyacá.
URL:https://centroeducativopachamama.edu.co/evento/dia-de-la-batalla-de-boyaca-3/
LOCATION:Centro Educativo Pachamama\, Sede Campestre - Calle 31 #107A -140 - Belén Aguas Frías\, Medellín\, Antioquia\, Colombia
CATEGORIES:Pachamama
END:VEVENT
BEGIN:VEVENT
DTSTART;VALUE=DATE:20240802
DTEND;VALUE=DATE:20240803
DTSTAMP:20260423T191100
CREATED:20240313T223537Z
LAST-MODIFIED:20240313T223537Z
UID:1357-1722556800-1722643199@centroeducativopachamama.edu.co
SUMMARY:Cumpleaños 14 de Pachamama.
DESCRIPTION:Cumpleaños 14 de Pachamama.
URL:https://centroeducativopachamama.edu.co/evento/cumpleanos-14-de-pachamama/
LOCATION:Centro Educativo Pachamama\, Sede Campestre - Calle 31 #107A -140 - Belén Aguas Frías\, Medellín\, Antioquia\, Colombia
CATEGORIES:Pachamama
END:VEVENT
BEGIN:VEVENT
DTSTART;VALUE=DATE:20240729
DTEND;VALUE=DATE:20240730
DTSTAMP:20260423T191100
CREATED:20240313T222733Z
LAST-MODIFIED:20240313T222733Z
UID:1349-1722211200-1722297599@centroeducativopachamama.edu.co
SUMMARY:Jornada pedagógica. Este día no asisten los estudiantes.
DESCRIPTION:Jornada pedagógica. Este día no asisten los estudiantes.
URL:https://centroeducativopachamama.edu.co/evento/jornada-pedagogica-este-dia-no-asisten-los-estudiantes-8/
LOCATION:Centro Educativo Pachamama\, Sede Campestre - Calle 31 #107A -140 - Belén Aguas Frías\, Medellín\, Antioquia\, Colombia
CATEGORIES:Jornada Pedagógica,Pachamama
END:VEVENT
BEGIN:VEVENT
DTSTART;VALUE=DATE:20240722
DTEND;VALUE=DATE:20240810
DTSTAMP:20260423T191100
CREATED:20240313T222700Z
LAST-MODIFIED:20240313T222700Z
UID:1347-1721606400-1723247999@centroeducativopachamama.edu.co
SUMMARY:Vacaciones de los estudiantes de quinto grado.
DESCRIPTION:Vacaciones de los estudiantes de quinto grado.
URL:https://centroeducativopachamama.edu.co/evento/vacaciones-de-los-estudiantes-de-quinto-grado/
LOCATION:Centro Educativo Pachamama\, Sede Campestre - Calle 31 #107A -140 - Belén Aguas Frías\, Medellín\, Antioquia\, Colombia
CATEGORIES:Pachamama
END:VEVENT
BEGIN:VEVENT
DTSTART;VALUE=DATE:20240722
DTEND;VALUE=DATE:20240723
DTSTAMP:20260423T191100
CREATED:20240313T222556Z
LAST-MODIFIED:20240313T222556Z
UID:1345-1721606400-1721692799@centroeducativopachamama.edu.co
SUMMARY:Homenaje a la bandera. Independencia de Colombia.
DESCRIPTION:Homenaje a la bandera. Independencia de Colombia.
URL:https://centroeducativopachamama.edu.co/evento/homenaje-a-la-bandera-independencia-de-colombia-3/
LOCATION:Centro Educativo Pachamama\, Sede Campestre - Calle 31 #107A -140 - Belén Aguas Frías\, Medellín\, Antioquia\, Colombia
CATEGORIES:Pachamama
END:VEVENT
BEGIN:VEVENT
DTSTART;VALUE=DATE:20240720
DTEND;VALUE=DATE:20240721
DTSTAMP:20260423T191100
CREATED:20240313T222505Z
LAST-MODIFIED:20240313T222505Z
UID:1343-1721433600-1721519999@centroeducativopachamama.edu.co
SUMMARY:Día de la independencia de Colombia.
DESCRIPTION:Día de la independencia de Colombia.
URL:https://centroeducativopachamama.edu.co/evento/dia-de-la-independencia-de-colombia-3/
LOCATION:Centro Educativo Pachamama\, Sede Campestre - Calle 31 #107A -140 - Belén Aguas Frías\, Medellín\, Antioquia\, Colombia
CATEGORIES:Pachamama
END:VEVENT
BEGIN:VEVENT
DTSTART;VALUE=DATE:20240702
DTEND;VALUE=DATE:20240703
DTSTAMP:20260423T191100
CREATED:20240313T222430Z
LAST-MODIFIED:20240313T222430Z
UID:1341-1719878400-1719964799@centroeducativopachamama.edu.co
SUMMARY:Regreso de vacaciones estudiantiles. Todos\, menos quinto grado.
DESCRIPTION:Regreso de vacaciones estudiantiles. Todos\, menos quinto grado.
URL:https://centroeducativopachamama.edu.co/evento/regreso-de-vacaciones-estudiantiles-todos-menos-quinto-grado/
LOCATION:Centro Educativo Pachamama\, Sede Campestre - Calle 31 #107A -140 - Belén Aguas Frías\, Medellín\, Antioquia\, Colombia
CATEGORIES:Pachamama
END:VEVENT
BEGIN:VEVENT
DTSTART;VALUE=DATE:20240624
DTEND;VALUE=DATE:20240629
DTSTAMP:20260423T191100
CREATED:20240313T222352Z
LAST-MODIFIED:20240313T222352Z
UID:1339-1719187200-1719619199@centroeducativopachamama.edu.co
SUMMARY:Vacaciones de maestros.
DESCRIPTION:. Vacaciones de maestros.
URL:https://centroeducativopachamama.edu.co/evento/vacaciones-de-maestros/
LOCATION:Centro Educativo Pachamama\, Sede Campestre - Calle 31 #107A -140 - Belén Aguas Frías\, Medellín\, Antioquia\, Colombia
CATEGORIES:Pachamama
END:VEVENT
END:VCALENDAR