BEGIN:VCALENDAR
VERSION:2.0
PRODID:-//Centro Educativo Pachamama - ECPv6.9.0//NONSGML v1.0//EN
CALSCALE:GREGORIAN
METHOD:PUBLISH
X-ORIGINAL-URL:https://centroeducativopachamama.edu.co
X-WR-CALDESC:Eventos para Centro Educativo Pachamama
REFRESH-INTERVAL;VALUE=DURATION:PT1H
X-Robots-Tag:noindex
X-PUBLISHED-TTL:PT1H
BEGIN:VTIMEZONE
TZID:America/Bogota
BEGIN:STANDARD
TZOFFSETFROM:-0500
TZOFFSETTO:-0500
TZNAME:-05
DTSTART:20240101T000000
END:STANDARD
END:VTIMEZONE
BEGIN:VEVENT
DTSTART;VALUE=DATE:20240616
DTEND;VALUE=DATE:20240617
DTSTAMP:20260424T023232
CREATED:20240313T222305Z
LAST-MODIFIED:20240313T222305Z
UID:1337-1718496000-1718582399@centroeducativopachamama.edu.co
SUMMARY:Día del Padre.
DESCRIPTION:Día del Padre.
URL:https://centroeducativopachamama.edu.co/evento/dia-del-padre-3/
LOCATION:Centro Educativo Pachamama\, Sede Campestre - Calle 31 #107A -140 - Belén Aguas Frías\, Medellín\, Antioquia\, Colombia
CATEGORIES:Pachamama
END:VEVENT
BEGIN:VEVENT
DTSTART;VALUE=DATE:20240611
DTEND;VALUE=DATE:20240622
DTSTAMP:20260424T023232
CREATED:20240313T222234Z
LAST-MODIFIED:20240313T222234Z
UID:1335-1718064000-1719014399@centroeducativopachamama.edu.co
SUMMARY:Vacaciones recreativas para preescolar en las mañanas.
DESCRIPTION:Vacaciones recreativas para preescolar en las mañanas.
URL:https://centroeducativopachamama.edu.co/evento/vacaciones-recreativas-para-preescolar-en-las-mananas-3/
LOCATION:Centro Educativo Pachamama\, Sede Campestre - Calle 31 #107A -140 - Belén Aguas Frías\, Medellín\, Antioquia\, Colombia
CATEGORIES:Pachamama
END:VEVENT
BEGIN:VEVENT
DTSTART;VALUE=DATE:20240608
DTEND;VALUE=DATE:20240609
DTSTAMP:20260424T023232
CREATED:20240313T222152Z
LAST-MODIFIED:20240313T222152Z
UID:1333-1717804800-1717891199@centroeducativopachamama.edu.co
SUMMARY:Fiesta de San Juan y la Familia.
DESCRIPTION:Fiesta de San Juan y la Familia.
URL:https://centroeducativopachamama.edu.co/evento/fiesta-de-san-juan-y-la-familia-3/
LOCATION:Centro Educativo Pachamama\, Sede Campestre - Calle 31 #107A -140 - Belén Aguas Frías\, Medellín\, Antioquia\, Colombia
CATEGORIES:Pachamama
END:VEVENT
BEGIN:VEVENT
DTSTART;VALUE=DATE:20240607
DTEND;VALUE=DATE:20240608
DTSTAMP:20260424T023232
CREATED:20240313T223245Z
LAST-MODIFIED:20240313T223245Z
UID:1355-1717718400-1717804799@centroeducativopachamama.edu.co
SUMMARY:Segunda entrega de informes  a padres de familia.
DESCRIPTION:Segunda entrega de informes  a padres de familia.
URL:https://centroeducativopachamama.edu.co/evento/segunda-entrega-de-informes-a-padres-de-familia-2/
LOCATION:Centro Educativo Pachamama\, Sede Campestre - Calle 31 #107A -140 - Belén Aguas Frías\, Medellín\, Antioquia\, Colombia
CATEGORIES:Pachamama
END:VEVENT
BEGIN:VEVENT
DTSTART;VALUE=DATE:20240606
DTEND;VALUE=DATE:20240607
DTSTAMP:20260424T023232
CREATED:20240313T222039Z
LAST-MODIFIED:20240313T222040Z
UID:1331-1717632000-1717718399@centroeducativopachamama.edu.co
SUMMARY:Receso estudiantil de todos los grupos excepto quinto grado.
DESCRIPTION:Receso estudiantil de todos los grupos excepto quinto grado.
URL:https://centroeducativopachamama.edu.co/evento/receso-estudiantil-de-todos-los-grupos-excepto-quinto-grado/
LOCATION:Centro Educativo Pachamama\, Sede Campestre - Calle 31 #107A -140 - Belén Aguas Frías\, Medellín\, Antioquia\, Colombia
CATEGORIES:Pachamama
END:VEVENT
BEGIN:VEVENT
DTSTART;VALUE=DATE:20240605
DTEND;VALUE=DATE:20240606
DTSTAMP:20260424T023232
CREATED:20240313T221943Z
LAST-MODIFIED:20240313T223119Z
UID:1329-1717545600-1717631999@centroeducativopachamama.edu.co
SUMMARY:Día del medio ambiente.
DESCRIPTION:Día del medio ambiente.
URL:https://centroeducativopachamama.edu.co/evento/dia-del-medio-ambiente-3/
LOCATION:Centro Educativo Pachamama\, Sede Campestre - Calle 31 #107A -140 - Belén Aguas Frías\, Medellín\, Antioquia\, Colombia
CATEGORIES:Pachamama
END:VEVENT
BEGIN:VEVENT
DTSTART;VALUE=DATE:20240527
DTEND;VALUE=DATE:20240528
DTSTAMP:20260424T023232
CREATED:20240313T221829Z
LAST-MODIFIED:20240313T221829Z
UID:1327-1716768000-1716854399@centroeducativopachamama.edu.co
SUMMARY:Jornada pedagógica. Este día no asisten los estudiantes. Celebración día del Maestro.
DESCRIPTION:Jornada pedagógica. Este día no asisten los estudiantes. Celebración día del Maestro.
URL:https://centroeducativopachamama.edu.co/evento/jornada-pedagogica-este-dia-no-asisten-los-estudiantes-celebracion-dia-del-maestro/
LOCATION:Centro Educativo Pachamama\, Sede Campestre - Calle 31 #107A -140 - Belén Aguas Frías\, Medellín\, Antioquia\, Colombia
CATEGORIES:Jornada Pedagógica,Pachamama
END:VEVENT
BEGIN:VEVENT
DTSTART;VALUE=DATE:20240524
DTEND;VALUE=DATE:20240525
DTSTAMP:20260424T023232
CREATED:20240313T221751Z
LAST-MODIFIED:20240313T221751Z
UID:1325-1716508800-1716595199@centroeducativopachamama.edu.co
SUMMARY:Salida Pedagógica 1 Preescolar.
DESCRIPTION:Salida Pedagógica 1 Preescolar.
URL:https://centroeducativopachamama.edu.co/evento/salida-pedagogica-1-preescolar-2/
LOCATION:Centro Educativo Pachamama\, Sede Campestre - Calle 31 #107A -140 - Belén Aguas Frías\, Medellín\, Antioquia\, Colombia
CATEGORIES:Pachamama
END:VEVENT
BEGIN:VEVENT
DTSTART;VALUE=DATE:20240523
DTEND;VALUE=DATE:20240524
DTSTAMP:20260424T023232
CREATED:20240313T221728Z
LAST-MODIFIED:20240313T221728Z
UID:1323-1716422400-1716508799@centroeducativopachamama.edu.co
SUMMARY:Segunda escuela de padres primaria y bachillerato. Matemáticas.
DESCRIPTION:Segunda escuela de padres primaria y bachillerato. Matemáticas.
URL:https://centroeducativopachamama.edu.co/evento/segunda-escuela-de-padres-primaria-y-bachillerato-matematicas/
LOCATION:Centro Educativo Pachamama\, Sede Campestre - Calle 31 #107A -140 - Belén Aguas Frías\, Medellín\, Antioquia\, Colombia
CATEGORIES:Pachamama
END:VEVENT
BEGIN:VEVENT
DTSTART;VALUE=DATE:20240517
DTEND;VALUE=DATE:20240518
DTSTAMP:20260424T023232
CREATED:20240313T221705Z
LAST-MODIFIED:20240313T221705Z
UID:1321-1715904000-1715990399@centroeducativopachamama.edu.co
SUMMARY:Compensatorio día del Maestro.
DESCRIPTION:Compensatorio día del Maestro.
URL:https://centroeducativopachamama.edu.co/evento/compensatorio-dia-del-maestro/
LOCATION:Centro Educativo Pachamama\, Sede Campestre - Calle 31 #107A -140 - Belén Aguas Frías\, Medellín\, Antioquia\, Colombia
CATEGORIES:Pachamama
END:VEVENT
BEGIN:VEVENT
DTSTART;TZID=America/Bogota:20240516T080000
DTEND;TZID=America/Bogota:20240516T170000
DTSTAMP:20260424T023232
CREATED:20240313T221617Z
LAST-MODIFIED:20240313T221617Z
UID:1319-1715846400-1715878800@centroeducativopachamama.edu.co
SUMMARY:Segunda escuela de padres preescolar.
DESCRIPTION:Segunda escuela de padres preescolar.
URL:https://centroeducativopachamama.edu.co/evento/segunda-escuela-de-padres-preescolar-2/
LOCATION:Centro Educativo Pachamama\, Sede Campestre - Calle 31 #107A -140 - Belén Aguas Frías\, Medellín\, Antioquia\, Colombia
CATEGORIES:Escuela de Padres
END:VEVENT
BEGIN:VEVENT
DTSTART;VALUE=DATE:20240515
DTEND;VALUE=DATE:20240516
DTSTAMP:20260424T023232
CREATED:20240313T221550Z
LAST-MODIFIED:20240313T221550Z
UID:1317-1715731200-1715817599@centroeducativopachamama.edu.co
SUMMARY:Día del Maestro.
DESCRIPTION:Día del Maestro.
URL:https://centroeducativopachamama.edu.co/evento/dia-del-maestro-2/
LOCATION:Centro Educativo Pachamama\, Sede Campestre - Calle 31 #107A -140 - Belén Aguas Frías\, Medellín\, Antioquia\, Colombia
CATEGORIES:Pachamama
END:VEVENT
BEGIN:VEVENT
DTSTART;VALUE=DATE:20240512
DTEND;VALUE=DATE:20240513
DTSTAMP:20260424T023232
CREATED:20240313T221401Z
LAST-MODIFIED:20240313T221401Z
UID:1315-1715472000-1715558399@centroeducativopachamama.edu.co
SUMMARY:Día de la madre.
DESCRIPTION:Día de la madre.
URL:https://centroeducativopachamama.edu.co/evento/dia-de-la-madre-3/
LOCATION:Centro Educativo Pachamama\, Sede Campestre - Calle 31 #107A -140 - Belén Aguas Frías\, Medellín\, Antioquia\, Colombia
CATEGORIES:Pachamama
END:VEVENT
BEGIN:VEVENT
DTSTART;VALUE=DATE:20240510
DTEND;VALUE=DATE:20240511
DTSTAMP:20260424T023232
CREATED:20240313T221322Z
LAST-MODIFIED:20240313T221322Z
UID:1313-1715299200-1715385599@centroeducativopachamama.edu.co
SUMMARY:Salida Pedagógica 2 Primaria y Secundaria\, grados 4°\, 5°\, 6° y 7°.
DESCRIPTION:Salida Pedagógica 2 Primaria y Secundaria\, grados 4°\, 5°\, 6° y 7°.
URL:https://centroeducativopachamama.edu.co/evento/salida-pedagogica-2-primaria-y-secundaria-grados-4-5-6-y-7/
LOCATION:Centro Educativo Pachamama\, Sede Campestre - Calle 31 #107A -140 - Belén Aguas Frías\, Medellín\, Antioquia\, Colombia
CATEGORIES:Pachamama
END:VEVENT
BEGIN:VEVENT
DTSTART;VALUE=DATE:20240510
DTEND;VALUE=DATE:20240511
DTSTAMP:20260424T023232
CREATED:20240313T221248Z
LAST-MODIFIED:20240313T221248Z
UID:1311-1715299200-1715385599@centroeducativopachamama.edu.co
SUMMARY:Celebración Pentecostés Preescolar.
DESCRIPTION:Celebración Pentecostés Preescolar.
URL:https://centroeducativopachamama.edu.co/evento/celebracion-pentecostes-preescolar/
LOCATION:Centro Educativo Pachamama\, Sede Campestre - Calle 31 #107A -140 - Belén Aguas Frías\, Medellín\, Antioquia\, Colombia
CATEGORIES:Pachamama
END:VEVENT
BEGIN:VEVENT
DTSTART;VALUE=DATE:20240509
DTEND;VALUE=DATE:20240510
DTSTAMP:20260424T023232
CREATED:20240313T221221Z
LAST-MODIFIED:20240313T221221Z
UID:1309-1715212800-1715299199@centroeducativopachamama.edu.co
SUMMARY:Segunda reunión consejo directivo.
DESCRIPTION:Segunda reunión consejo directivo.
URL:https://centroeducativopachamama.edu.co/evento/segunda-reunion-consejo-directivo-2/
LOCATION:Centro Educativo Pachamama\, Sede Campestre - Calle 31 #107A -140 - Belén Aguas Frías\, Medellín\, Antioquia\, Colombia
CATEGORIES:Pachamama
END:VEVENT
BEGIN:VEVENT
DTSTART;VALUE=DATE:20240503
DTEND;VALUE=DATE:20240504
DTSTAMP:20260424T023232
CREATED:20240313T221147Z
LAST-MODIFIED:20240313T221147Z
UID:1307-1714694400-1714780799@centroeducativopachamama.edu.co
SUMMARY:Salida Pedagógica 2 Primaria\, grados 1°\, 2° y 3°.
DESCRIPTION:Salida Pedagógica 2 Primaria\, grados 1°\, 2° y 3°.
URL:https://centroeducativopachamama.edu.co/evento/salida-pedagogica-2-primaria-grados-1-2-y-3-2/
LOCATION:Centro Educativo Pachamama\, Sede Campestre - Calle 31 #107A -140 - Belén Aguas Frías\, Medellín\, Antioquia\, Colombia
CATEGORIES:Pachamama
END:VEVENT
BEGIN:VEVENT
DTSTART;VALUE=DATE:20240429
DTEND;VALUE=DATE:20240430
DTSTAMP:20260424T023232
CREATED:20240313T180845Z
LAST-MODIFIED:20240313T180845Z
UID:1305-1714348800-1714435199@centroeducativopachamama.edu.co
SUMMARY:Jornada pedagógica. Este día no asisten los estudiantes.
DESCRIPTION:Jornada pedagógica. Este día no asisten los estudiantes.
URL:https://centroeducativopachamama.edu.co/evento/jornada-pedagogica-este-dia-no-asisten-los-estudiantes-7/
LOCATION:Centro Educativo Pachamama\, Sede Campestre - Calle 31 #107A -140 - Belén Aguas Frías\, Medellín\, Antioquia\, Colombia
CATEGORIES:Jornada Pedagógica
END:VEVENT
BEGIN:VEVENT
DTSTART;VALUE=DATE:20240429
DTEND;VALUE=DATE:20240430
DTSTAMP:20260424T023232
CREATED:20240313T180803Z
LAST-MODIFIED:20240313T180803Z
UID:1303-1714348800-1714435199@centroeducativopachamama.edu.co
SUMMARY:Día del árbol y de la danza.
DESCRIPTION:Día del árbol y de la danza.
URL:https://centroeducativopachamama.edu.co/evento/dia-del-arbol-y-de-la-danza-2/
LOCATION:Centro Educativo Pachamama\, Sede Campestre - Calle 31 #107A -140 - Belén Aguas Frías\, Medellín\, Antioquia\, Colombia
CATEGORIES:Pachamama
END:VEVENT
BEGIN:VEVENT
DTSTART;VALUE=DATE:20240427
DTEND;VALUE=DATE:20240428
DTSTAMP:20260424T023232
CREATED:20240313T180734Z
LAST-MODIFIED:20240313T180734Z
UID:1301-1714176000-1714262399@centroeducativopachamama.edu.co
SUMMARY:Día del niño.
DESCRIPTION:Día del niño.
URL:https://centroeducativopachamama.edu.co/evento/dia-del-nino-2/
LOCATION:Centro Educativo Pachamama\, Sede Campestre - Calle 31 #107A -140 - Belén Aguas Frías\, Medellín\, Antioquia\, Colombia
CATEGORIES:Pachamama
END:VEVENT
BEGIN:VEVENT
DTSTART;VALUE=DATE:20240426
DTEND;VALUE=DATE:20240427
DTSTAMP:20260424T023232
CREATED:20240313T180715Z
LAST-MODIFIED:20240313T180715Z
UID:1299-1714089600-1714175999@centroeducativopachamama.edu.co
SUMMARY:Celebración día del niño.
DESCRIPTION:Celebración día del niño.
URL:https://centroeducativopachamama.edu.co/evento/celebracion-dia-del-nino-2/
LOCATION:Centro Educativo Pachamama\, Sede Campestre - Calle 31 #107A -140 - Belén Aguas Frías\, Medellín\, Antioquia\, Colombia
CATEGORIES:Pachamama
END:VEVENT
BEGIN:VEVENT
DTSTART;VALUE=DATE:20240426
DTEND;VALUE=DATE:20240427
DTSTAMP:20260424T023232
CREATED:20240313T180608Z
LAST-MODIFIED:20240313T180608Z
UID:1296-1714089600-1714175999@centroeducativopachamama.edu.co
SUMMARY:Dia de la secretaria.
DESCRIPTION:Dia de la secretaria.
URL:https://centroeducativopachamama.edu.co/evento/dia-de-la-secretaria/
LOCATION:Centro Educativo Pachamama\, Sede Campestre - Calle 31 #107A -140 - Belén Aguas Frías\, Medellín\, Antioquia\, Colombia
CATEGORIES:Pachamama
END:VEVENT
BEGIN:VEVENT
DTSTART;TZID=America/Bogota:20240425T080000
DTEND;TZID=America/Bogota:20240425T170000
DTSTAMP:20260424T023232
CREATED:20240313T180537Z
LAST-MODIFIED:20240313T180651Z
UID:1294-1714032000-1714064400@centroeducativopachamama.edu.co
SUMMARY:Actos cívicos del mes.
DESCRIPTION:Actos cívicos del mes.
URL:https://centroeducativopachamama.edu.co/evento/actos-civicos-del-mes/
LOCATION:Centro Educativo Pachamama\, Sede Campestre - Calle 31 #107A -140 - Belén Aguas Frías\, Medellín\, Antioquia\, Colombia
CATEGORIES:Pachamama
END:VEVENT
BEGIN:VEVENT
DTSTART;VALUE=DATE:20240423
DTEND;VALUE=DATE:20240424
DTSTAMP:20260424T023232
CREATED:20240313T180517Z
LAST-MODIFIED:20240313T180646Z
UID:1292-1713830400-1713916799@centroeducativopachamama.edu.co
SUMMARY:Día del idioma
DESCRIPTION:Día del idioma
URL:https://centroeducativopachamama.edu.co/evento/dia-del-idioma-3/
LOCATION:Centro Educativo Pachamama\, Sede Campestre - Calle 31 #107A -140 - Belén Aguas Frías\, Medellín\, Antioquia\, Colombia
CATEGORIES:Pachamama
END:VEVENT
BEGIN:VEVENT
DTSTART;VALUE=DATE:20240422
DTEND;VALUE=DATE:20240423
DTSTAMP:20260424T023232
CREATED:20240313T180455Z
LAST-MODIFIED:20240313T180639Z
UID:1290-1713744000-1713830399@centroeducativopachamama.edu.co
SUMMARY:Dia de la tierra.
DESCRIPTION:Dia de la tierra.
URL:https://centroeducativopachamama.edu.co/evento/dia-de-la-tierra-2/
LOCATION:Centro Educativo Pachamama\, Sede Campestre - Calle 31 #107A -140 - Belén Aguas Frías\, Medellín\, Antioquia\, Colombia
CATEGORIES:Pachamama
END:VEVENT
BEGIN:VEVENT
DTSTART;VALUE=DATE:20240412
DTEND;VALUE=DATE:20240413
DTSTAMP:20260424T023232
CREATED:20240313T180315Z
LAST-MODIFIED:20240313T180632Z
UID:1288-1712880000-1712966399@centroeducativopachamama.edu.co
SUMMARY:Celebración de la Pascua.
DESCRIPTION:Celebración de la Pascua.
URL:https://centroeducativopachamama.edu.co/evento/celebracion-de-la-pascua-2/
LOCATION:Centro Educativo Pachamama\, Sede Campestre - Calle 31 #107A -140 - Belén Aguas Frías\, Medellín\, Antioquia\, Colombia
CATEGORIES:Pachamama
END:VEVENT
BEGIN:VEVENT
DTSTART;VALUE=DATE:20240325
DTEND;VALUE=DATE:20240330
DTSTAMP:20260424T023232
CREATED:20240112T172229Z
LAST-MODIFIED:20240112T172229Z
UID:1255-1711324800-1711756799@centroeducativopachamama.edu.co
SUMMARY:Semana Santa. Semana receso estudiantil y vacaciones docentes.
DESCRIPTION:Semana Santa. Semana receso estudiantil y vacaciones docentes.
URL:https://centroeducativopachamama.edu.co/evento/semana-santa-semana-receso-estudiantil-y-vacaciones-docentes/
LOCATION:Centro Educativo Pachamama\, Sede Campestre - Calle 31 #107A -140 - Belén Aguas Frías\, Medellín\, Antioquia\, Colombia
CATEGORIES:Pachamama
END:VEVENT
BEGIN:VEVENT
DTSTART;VALUE=DATE:20240322
DTEND;VALUE=DATE:20240323
DTSTAMP:20260424T023232
CREATED:20240112T172140Z
LAST-MODIFIED:20240112T172140Z
UID:1253-1711065600-1711151999@centroeducativopachamama.edu.co
SUMMARY:Primera entrega de informes a padres de familia.
DESCRIPTION:Primera entrega de informes a padres de familia.
URL:https://centroeducativopachamama.edu.co/evento/primera-entrega-de-informes-a-padres-de-familia-2/
LOCATION:Centro Educativo Pachamama\, Sede Campestre - Calle 31 #107A -140 - Belén Aguas Frías\, Medellín\, Antioquia\, Colombia
CATEGORIES:Pachamama
END:VEVENT
BEGIN:VEVENT
DTSTART;VALUE=DATE:20240318
DTEND;VALUE=DATE:20240319
DTSTAMP:20260424T023232
CREATED:20240112T172115Z
LAST-MODIFIED:20240112T172115Z
UID:1251-1710720000-1710806399@centroeducativopachamama.edu.co
SUMMARY:Jornada Pedagógica. No asisten los estudiantes.
DESCRIPTION:Jornada Pedagógica. No asisten los estudiantes.
URL:https://centroeducativopachamama.edu.co/evento/jornada-pedagogica-no-asisten-los-estudiantes/
LOCATION:Centro Educativo Pachamama\, Sede Campestre - Calle 31 #107A -140 - Belén Aguas Frías\, Medellín\, Antioquia\, Colombia
CATEGORIES:Jornada Pedagógica
END:VEVENT
BEGIN:VEVENT
DTSTART;VALUE=DATE:20240316
DTEND;VALUE=DATE:20240317
DTSTAMP:20260424T023232
CREATED:20240112T171940Z
LAST-MODIFIED:20240126T135441Z
UID:1245-1710547200-1710633599@centroeducativopachamama.edu.co
SUMMARY:Seminario Segundo Septenio padres nuevos y los que faltan.
DESCRIPTION:
URL:https://centroeducativopachamama.edu.co/evento/seminario-segundo-septenio-padres-nuevos-y-los-que-faltan-2/
LOCATION:Centro Educativo Pachamama\, Sede Campestre - Calle 31 #107A -140 - Belén Aguas Frías\, Medellín\, Antioquia\, Colombia
CATEGORIES:Pachamama
END:VEVENT
END:VCALENDAR