BEGIN:VCALENDAR
VERSION:2.0
PRODID:-//Centro Educativo Pachamama - ECPv6.9.0//NONSGML v1.0//EN
CALSCALE:GREGORIAN
METHOD:PUBLISH
X-ORIGINAL-URL:https://centroeducativopachamama.edu.co
X-WR-CALDESC:Eventos para Centro Educativo Pachamama
REFRESH-INTERVAL;VALUE=DURATION:PT1H
X-Robots-Tag:noindex
X-PUBLISHED-TTL:PT1H
BEGIN:VTIMEZONE
TZID:America/Bogota
BEGIN:STANDARD
TZOFFSETFROM:-0500
TZOFFSETTO:-0500
TZNAME:-05
DTSTART:20260101T000000
END:STANDARD
END:VTIMEZONE
BEGIN:VEVENT
DTSTART;VALUE=DATE:20260904
DTEND;VALUE=DATE:20260905
DTSTAMP:20260420T045519
CREATED:20260310T131326Z
LAST-MODIFIED:20260310T131326Z
UID:1710-1788480000-1788566399@centroeducativopachamama.edu.co
SUMMARY:Segunda Salida Pedagógica Preescolar
DESCRIPTION:Segunda Salida Pedagógica Preescolar
URL:https://centroeducativopachamama.edu.co/evento/segunda-salida-pedagogica-preescolar-2/
LOCATION:Centro Educativo Pachamama\, Sede Campestre - Calle 31 #107A -140 - Belén Aguas Frías\, Medellín\, Antioquia\, Colombia
CATEGORIES:Salida Pedagógica
END:VEVENT
BEGIN:VEVENT
DTSTART;VALUE=DATE:20260911
DTEND;VALUE=DATE:20260912
DTSTAMP:20260420T045519
CREATED:20260312T152935Z
LAST-MODIFIED:20260312T152935Z
UID:1783-1789084800-1789171199@centroeducativopachamama.edu.co
SUMMARY:Entrega Informes a Padres de Familia
DESCRIPTION:Entrega Informes a Padres de Familia
URL:https://centroeducativopachamama.edu.co/evento/entrega-informes-a-padres-de-familia/
LOCATION:Centro Educativo Pachamama\, Sede Campestre - Calle 31 #107A -140 - Belén Aguas Frías\, Medellín\, Antioquia\, Colombia
CATEGORIES:Pachamama
END:VEVENT
BEGIN:VEVENT
DTSTART;VALUE=DATE:20260928
DTEND;VALUE=DATE:20260929
DTSTAMP:20260420T045519
CREATED:20260310T131429Z
LAST-MODIFIED:20260310T131429Z
UID:1714-1790553600-1790639999@centroeducativopachamama.edu.co
SUMMARY:Jornada Pedagógica
DESCRIPTION:Jornada Pedagógica
URL:https://centroeducativopachamama.edu.co/evento/jornada-pedagogica-16/
LOCATION:Centro Educativo Pachamama\, Sede Campestre - Calle 31 #107A -140 - Belén Aguas Frías\, Medellín\, Antioquia\, Colombia
CATEGORIES:Jornada Pedagógica
END:VEVENT
BEGIN:VEVENT
DTSTART;VALUE=DATE:20260929
DTEND;VALUE=DATE:20260930
DTSTAMP:20260420T045519
CREATED:20260310T131527Z
LAST-MODIFIED:20260310T131527Z
UID:1716-1790640000-1790726399@centroeducativopachamama.edu.co
SUMMARY:Quinta Reunión Consejo de Padres
DESCRIPTION:Quinta Reunión Consejo de Padres
URL:https://centroeducativopachamama.edu.co/evento/quinta-reunion-consejo-de-padres/
LOCATION:Centro Educativo Pachamama\, Sede Campestre - Calle 31 #107A -140 - Belén Aguas Frías\, Medellín\, Antioquia\, Colombia
CATEGORIES:Consejo de Padres
END:VEVENT
END:VCALENDAR